BEGIN:VCALENDAR
PRODID:NingEventWidget-v1
VERSION:2.0
METHOD:PUBLISH
BEGIN:VTIMEZONE
TZID:Pacific/Midway
X-LIC-LOCATION:Pacific/Midway
BEGIN:STANDARD
TZOFFSETFROM:-1100
TZOFFSETTO:-1100
TZNAME:SST
DTSTART:19700101T000000
END:STANDARD
END:VTIMEZONE
BEGIN:VEVENT
UID:5072275:Event:732922
DTSTAMP:20260421T141150Z
SUMMARY:MARIETTA DINER-ROMEO   BREAKFAST 200 S COBB PKWY MARIETTA GA 8
 -10AM
DESCRIPTION:MARIETTA DINER-ROMEO\n BREAKFAST 200 S COBB PKWY MARIETTA
  GA 8-10AM\n\nFor more information visit https://www.southeastwheelsev
 ents.com/events/marietta-diner-romeo-breakfast-200-s-cobb-pkwy-mariett
 a-ga-8-10-4
DTSTART;TZID=Pacific/Midway:20140311T200000
DTEND;TZID=Pacific/Midway:20140311T220000
CATEGORIES:marietta, diner-romeo, breakfast, 200, s, cobb, pkwy, ga, 8
 -10am
LOCATION:MARIETTA DINER-ROMEO   BREAKFAST 200 S COBB PKWY MARIETTA GA 
 8-10AM
WEBSITE:
URL:
CONTACT:
ORGANIZER:DIK WESSON POSTED BY jim (MOPAR JIM )nelson
ATTACH;FMTTYPE="image/jpeg":
ATTENDEE;ROLE=REQ-PARTICIPANT;PARTSTAT=ACCEPTED;RSVP=TRUE;CN="jim (MOP
 AR JIM )nelson":https://www.southeastwheelsevents.com/profile/jimnelso
 n877
END:VEVENT
END:VCALENDAR
