BEGIN:VCALENDAR
PRODID:NingEventWidget-v1
VERSION:2.0
METHOD:PUBLISH
BEGIN:VTIMEZONE
TZID:Pacific/Midway
X-LIC-LOCATION:Pacific/Midway
BEGIN:STANDARD
TZOFFSETFROM:-1100
TZOFFSETTO:-1100
TZNAME:SST
DTSTART:19700101T000000
END:STANDARD
END:VTIMEZONE
BEGIN:VEVENT
UID:5072275:Event:1130436
DTSTAMP:20260421T035409Z
SUMMARY:Marietta Diner Romeo cruise in and breakfast. -Marietta, GA
DESCRIPTION: Marietta Diner Romeo cruise in and breakfast. 306 Cobb Pk
 wy S Marietta Ga 7-9am\n\nFor more information visit https://www.south
 eastwheelsevents.com/events/marietta-diner-romeo-cruise-in-and-breakfa
 st-306-cobb-pkwy-s-17
DTSTART;TZID=Pacific/Midway:20190226T060000
DTEND;TZID=Pacific/Midway:20190226T090000
CATEGORIES:marietta, diner, romeo, cruise, in, and, "breakfast.", 306,
  cobb, pkwy, s, ga, 7-9am
LOCATION:Marietta Diner
WEBSITE:
URL:
CONTACT:
ORGANIZER:Dik Wesson by MOPAR JIM )nelson
ATTACH;FMTTYPE="image/jpeg":https://storage.ning.com/topology/rest/1.0
 /file/get/911693579?profile=original
ATTENDEE;ROLE=REQ-PARTICIPANT;PARTSTAT=ACCEPTED;RSVP=TRUE;CN="Chuck Aa
 ron":https://www.southeastwheelsevents.com/profile/ChuckAaron886
ATTENDEE;ROLE=REQ-PARTICIPANT;PARTSTAT=ACCEPTED;RSVP=TRUE;CN="jim (MOP
 AR JIM )nelson":https://www.southeastwheelsevents.com/profile/jimnelso
 n877
END:VEVENT
END:VCALENDAR
