BEGIN:VCALENDAR
PRODID:NingEventWidget-v1
VERSION:2.0
METHOD:PUBLISH
BEGIN:VTIMEZONE
TZID:Pacific/Midway
X-LIC-LOCATION:Pacific/Midway
BEGIN:STANDARD
TZOFFSETFROM:-1100
TZOFFSETTO:-1100
TZNAME:SST
DTSTART:19700101T000000
END:STANDARD
END:VTIMEZONE
BEGIN:VEVENT
UID:5072275:Event:1083138
DTSTAMP:20260422T144327Z
SUMMARY:Marietta Diner Romeo cruise in and breakfast. 306 Cobb Pkwy S 
 Marietta Ga 7-9am
DESCRIPTION:Marietta Diner Romeo cruise in and breakfast. 306 Cobb Pkw
 y S Marietta Ga 7-9am\n\nFor more information visit https://www.southe
 astwheelsevents.com/events/marietta-diner-romeo-cruise-in-and-breakfas
 t-306-cobb-pkwy-s-9
DTSTART;TZID=Pacific/Midway:20180717T060000
DTEND;TZID=Pacific/Midway:20180717T090000
CATEGORIES:marietta, diner, romeo, cruise, in, and, "breakfast.", 306,
  cobb, pkwy, s, ga, 7-9am
LOCATION:Marietta Diner Romeo cruise in and breakfast. 306 Cobb Pkwy S
  Marietta Ga 7-9am
WEBSITE:
URL:
CONTACT:
ORGANIZER;CN="jim (MOPAR JIM )nelson":https://www.southeastwheelsevent
 s.com/profile/jimnelson877
ATTACH;FMTTYPE="image/jpeg":
ATTENDEE;ROLE=REQ-PARTICIPANT;PARTSTAT=ACCEPTED;RSVP=TRUE;CN="jim (MOP
 AR JIM )nelson":https://www.southeastwheelsevents.com/profile/jimnelso
 n877
END:VEVENT
END:VCALENDAR
