BEGIN:VCALENDAR
PRODID:NingEventWidget-v1
VERSION:2.0
METHOD:PUBLISH
BEGIN:VTIMEZONE
TZID:Pacific/Midway
X-LIC-LOCATION:Pacific/Midway
BEGIN:STANDARD
TZOFFSETFROM:-1100
TZOFFSETTO:-1100
TZNAME:SST
DTSTART:19700101T000000
END:STANDARD
END:VTIMEZONE
BEGIN:VEVENT
UID:5072275:Event:1243591
DTSTAMP:20260422T121216Z
SUMMARY:MARKET OF MARION MONTHLY CAR SHOW
DESCRIPTION:\r\n\r\n\r\n\r\n\r\n  Greetings fellow gear-heads! Marke
 t of Marion Car Show this month is on February 25th! Looking forward t
 o seeing everyone again. We'll have the usual: Many many good looking 
 classic cars, food, music, valve cover racing and many trophies to pas
 s out!! And, of course, you can drop till you shop at the Market itsel
 f! See you there!!\n\nFor more information visit https://www.southeast
 wheelsevents.com/events/market-of-marion-monthly-car-show-1
DTSTART;TZID=Pacific/Midway:20230325T090000
DTEND;TZID=Pacific/Midway:20230325T130000
CATEGORIES:car, show
LOCATION:Market Place of Marion
WEBSITE:
URL:
CONTACT:
ORGANIZER:
ATTACH;FMTTYPE="image/jpeg":https://storage.ning.com/topology/rest/1.0
 /file/get/10971466258?profile=original
ATTENDEE;ROLE=REQ-PARTICIPANT;PARTSTAT=TENTATIVE;RSVP=TRUE;CN="Jeffrey
  Rutherford":https://www.southeastwheelsevents.com/profile/JeffreyRuth
 erford866
END:VEVENT
END:VCALENDAR
