BEGIN:VCALENDAR
PRODID:NingEventWidget-v1
VERSION:2.0
METHOD:PUBLISH
BEGIN:VTIMEZONE
TZID:Pacific/Midway
X-LIC-LOCATION:Pacific/Midway
BEGIN:STANDARD
TZOFFSETFROM:-1100
TZOFFSETTO:-1100
TZNAME:SST
DTSTART:19700101T000000
END:STANDARD
END:VTIMEZONE
BEGIN:VEVENT
UID:5072275:Event:1095991
DTSTAMP:20260421T035211Z
SUMMARY:McDonald's of Anderson Cruise In - Anderson, Sc
DESCRIPTION:ALL VEHICLES ARE WELCOME 4th SATURDAY EACH MONTH MARCH TO 
 OCTOBER MUSIC FOOD FIND EVENT ON FACEBOOK HWY 81 @ I-85 EXIT 27\n\nFor
  more information visit https://www.southeastwheelsevents.com/events/m
 cdonald-s-of-anderson-cruise-in-anderson-sc-3
DTSTART;TZID=Pacific/Midway:20181027T160000
DTEND;TZID=Pacific/Midway:20181027T200000
CATEGORIES:car, show, cruise, in
LOCATION:McDonald's of Anderson
WEBSITE:https://www.google.co.in/maps/place/McDonald&amp;amp;#039;s/@3
 4.630715,-82.6017137,17z/data=!3m1!4b1!4m5!3m4!1s0x88586a8420c647ab:0x
 c996a62d284e0d0e!8m2!3d34.630715!4d-82.599525
URL:https://www.google.co.in/maps/place/McDonald&amp;amp;#039;s/@34.63
 0715,-82.6017137,17z/data=!3m1!4b1!4m5!3m4!1s0x88586a8420c647ab:0xc996
 a62d284e0d0e!8m2!3d34.630715!4d-82.599525
CONTACT:
ORGANIZER:
ATTACH;FMTTYPE="image/jpeg":http://storage.ning.com/topology/rest/1.0/
 file/get/967790743?profile=original
ATTENDEE;ROLE=REQ-PARTICIPANT;PARTSTAT=ACCEPTED;RSVP=TRUE;CN="Anthony 
 Hopkins":https://www.southeastwheelsevents.com/profile/AnthonyHopkins
END:VEVENT
END:VCALENDAR
