BEGIN:VCALENDAR
PRODID:NingEventWidget-v1
VERSION:2.0
METHOD:PUBLISH
BEGIN:VTIMEZONE
TZID:Pacific/Midway
X-LIC-LOCATION:Pacific/Midway
BEGIN:STANDARD
TZOFFSETFROM:-1100
TZOFFSETTO:-1100
TZNAME:SST
DTSTART:19700101T000000
END:STANDARD
END:VTIMEZONE
BEGIN:VEVENT
UID:5072275:Event:1179143
DTSTAMP:20260424T013109Z
SUMMARY:Melissa's Fight With Breast Cancer Benefit Car and Truck Show 
 Winder, GA
DESCRIPTION:\r\nTop 20,\r\nBest of Show,\r\nMelissa's Choice,\r\nMelis
 sa's Kids Choice,\r\nLive Charity Auction,\r\n50/50,\r\nFood, Door Pri
 zes,\r\n\r\nEntry Fee $20.00,\r\nAll Proceeds go the Sadlock Family!\r
 \n\r\n\n\nFor more information visit https://www.southeastwheelsevents
 .com/events/melissa-s-fight-with-breast-cancer-benefit-car-and-truck-s
 how
DTSTART;TZID=Pacific/Midway:20191116T110000
DTEND;TZID=Pacific/Midway:20191116T160000
CATEGORIES:benefit, car, show
LOCATION:Holly Hills Shopping Center
WEBSITE:
URL:
CONTACT:678-977-1433
ORGANIZER;CN="KRISTIN MARIE WATSON":https://www.southeastwheelsevents.
 com/profile/KRISTINMARIEWATSON
ATTACH;FMTTYPE="image/jpeg":https://storage.ning.com/topology/rest/1.0
 /file/get/3661700158?profile=original
ATTENDEE;ROLE=REQ-PARTICIPANT;PARTSTAT=ACCEPTED;RSVP=TRUE;CN="Jeffrey 
 Rutherford":https://www.southeastwheelsevents.com/profile/JeffreyRuthe
 rford866
ATTENDEE;ROLE=REQ-PARTICIPANT;PARTSTAT=ACCEPTED;RSVP=TRUE;CN="KRISTIN 
 MARIE WATSON":https://www.southeastwheelsevents.com/profile/KRISTINMAR
 IEWATSON
ATTENDEE;ROLE=REQ-PARTICIPANT;PARTSTAT=TENTATIVE;RSVP=TRUE;CN="Dean Ch
 arpentier ":https://www.southeastwheelsevents.com/profile/DeanCharpent
 ier
END:VEVENT
END:VCALENDAR
