BEGIN:VCALENDAR
PRODID:NingEventWidget-v1
VERSION:2.0
METHOD:PUBLISH
BEGIN:VTIMEZONE
TZID:Pacific/Midway
X-LIC-LOCATION:Pacific/Midway
BEGIN:STANDARD
TZOFFSETFROM:-1100
TZOFFSETTO:-1100
TZNAME:SST
DTSTART:19700101T000000
END:STANDARD
END:VTIMEZONE
BEGIN:VEVENT
UID:5072275:Event:1176165
DTSTAMP:20260425T014541Z
SUMMARY:MELVINS CLASSIC FORD PARTS COFFEE & DOUGHNUTS CRUISE IN -Conye
 rs, GA
DESCRIPTION:We will be hosting our fall Coffee & Donuts cruise in on O
 ctober 19th at Melvin's Classic Ford Parts. Make plans to bring your c
 ar/truck/project and hang out with us for some fun and refreshements!\
 r\nSAT, OCT 19 ..... 9AM - NOON\r\n\n\nFor more information visit http
 s://www.southeastwheelsevents.com/events/melvins-classic-ford-parts-co
 ffee-doughnuts-cruise-in
DTSTART;TZID=Pacific/Midway:20221001T090000
DTEND;TZID=Pacific/Midway:20221001T120000
CATEGORIES:cruise, in
LOCATION:MELVINS CLASSIC FORD PARTS
WEBSITE:http://melvinsclassicfordparts.com
URL:http://melvinsclassicfordparts.com
CONTACT:770-761-6800
ORGANIZER:
ATTACH;FMTTYPE="image/jpeg":https://storage.ning.com/topology/rest/1.0
 /file/get/3445727168?profile=original
ATTENDEE;ROLE=REQ-PARTICIPANT;PARTSTAT=ACCEPTED;RSVP=TRUE;CN="Bill Dav
 is":https://www.southeastwheelsevents.com/profile/BillDavis
ATTENDEE;ROLE=REQ-PARTICIPANT;PARTSTAT=TENTATIVE;RSVP=TRUE;CN="Jeffrey
  Rutherford":https://www.southeastwheelsevents.com/profile/JeffreyRuth
 erford866
END:VEVENT
END:VCALENDAR
