BEGIN:VCALENDAR
PRODID:NingEventWidget-v1
VERSION:2.0
METHOD:PUBLISH
BEGIN:VTIMEZONE
TZID:Pacific/Midway
X-LIC-LOCATION:Pacific/Midway
BEGIN:STANDARD
TZOFFSETFROM:-1100
TZOFFSETTO:-1100
TZNAME:SST
DTSTART:19700101T000000
END:STANDARD
END:VTIMEZONE
BEGIN:VEVENT
UID:5072275:Event:1243223
DTSTAMP:20260423T043409Z
SUMMARY:MEMBERS MEETING AT Blairsville Cruisers Clubhouse -Blairsville
  GA.
DESCRIPTION:Discussion of upcoming season and other issues of interest
  to members.\n\nFor more information visit https://www.southeastwheels
 events.com/events/members-meeting-at-blairsville-cruisers-clubhouse-bl
 airsville-ga
DTSTART;TZID=Pacific/Midway:20230223T180000
DTEND;TZID=Pacific/Midway:20230223T200000
CATEGORIES:car, club, meeting, members
LOCATION:Blairsville Cruisers Clubhouse
WEBSITE:http://www.blairsvillecruisers.com/
URL:http://www.blairsvillecruisers.com/
CONTACT:(706) 994-4837
ORGANIZER:Blairsville Cruisers
ATTACH;FMTTYPE="image/jpeg":http://storage.ning.com/topology/rest/1.0/
 file/get/967584679?profile=original
ATTENDEE;ROLE=REQ-PARTICIPANT;PARTSTAT=ACCEPTED;RSVP=TRUE;CN="Michael 
 Thies":https://www.southeastwheelsevents.com/profile/MichaelThies
END:VEVENT
END:VCALENDAR
