BEGIN:VCALENDAR
PRODID:NingEventWidget-v1
VERSION:2.0
METHOD:PUBLISH
BEGIN:VTIMEZONE
TZID:Pacific/Midway
X-LIC-LOCATION:Pacific/Midway
BEGIN:STANDARD
TZOFFSETFROM:-1100
TZOFFSETTO:-1100
TZNAME:SST
DTSTART:19700101T000000
END:STANDARD
END:VTIMEZONE
BEGIN:VEVENT
UID:5072275:Event:1053114
DTSTAMP:20260423T184508Z
SUMMARY:Memorial Day Cruise In at the Diner -Sevierville, TN
DESCRIPTION:Cruise In at the Diner -Sevierville, TN Call to confirm wi
 th Howard Kingsbury 865-908-1904\nTHE DINER RAT'S Big Cheese, and Most
  Patriotic! Come hang out with us from 4:00 p.m. to 9:00 p.m. and enjo
 y the festivities. Drawings and prizes by 5:00 p.m. Summer is in full 
 swing and the weather is perfect!\n\nFor more information visit https:
 //www.southeastwheelsevents.com/events/memorial-day-cruise-in-at-the-d
 iner-sevierville-tn
DTSTART;TZID=Pacific/Midway:20170527T120000
DTEND;TZID=Pacific/Midway:20170527T170000
CATEGORIES:cruise-in, festival
LOCATION:The Diner
WEBSITE:http://thediner.biz
URL:http://thediner.biz
CONTACT:865-908-1904
ORGANIZER:Howard Kingsbury
ATTACH;FMTTYPE="image/jpeg":http://storage.ning.com/topology/rest/1.0/
 file/get/967708629?profile=original
ATTENDEE;ROLE=REQ-PARTICIPANT;PARTSTAT=ACCEPTED;RSVP=TRUE;CN="Chuck Aa
 ron":https://www.southeastwheelsevents.com/profile/ChuckAaron886
END:VEVENT
END:VCALENDAR
