BEGIN:VCALENDAR
PRODID:NingEventWidget-v1
VERSION:2.0
METHOD:PUBLISH
BEGIN:VTIMEZONE
TZID:Pacific/Midway
X-LIC-LOCATION:Pacific/Midway
BEGIN:STANDARD
TZOFFSETFROM:-1100
TZOFFSETTO:-1100
TZNAME:SST
DTSTART:19700101T000000
END:STANDARD
END:VTIMEZONE
BEGIN:VEVENT
UID:5072275:Event:111806
DTSTAMP:20260423T195513Z
SUMMARY:Memories In Monroe - Monroe, GA
DESCRIPTION:The memories in Monroe Classic Car Show event is held in d
 owntown Monroe with the Historic Courthouse serving as the central poi
 nt of the show. Classic cars are displayed all around the perimeter of
  the courthouse for the public to view. At the end of the show there i
 s an awards ceremony with awards given. Professionally judged by PARMC
 K International.\n\nFor more information visit https://www.southeastwh
 eelsevents.com/events/memories-in-monroe-monroe-ga
DTSTART;TZID=Pacific/Midway:20101113T090000
DTEND;TZID=Pacific/Midway:20101113T160000
CATEGORIES:car-show
LOCATION:Courthouse
WEBSITE:
URL:
CONTACT:
ORGANIZER:Community Moderator
ATTACH;FMTTYPE="image/jpeg":
ATTENDEE;ROLE=REQ-PARTICIPANT;PARTSTAT=ACCEPTED;RSVP=TRUE;CN=Leroy:htt
 ps://www.southeastwheelsevents.com/profile/Leroy
END:VEVENT
END:VCALENDAR
