BEGIN:VCALENDAR
PRODID:NingEventWidget-v1
VERSION:2.0
METHOD:PUBLISH
BEGIN:VTIMEZONE
TZID:Pacific/Midway
X-LIC-LOCATION:Pacific/Midway
BEGIN:STANDARD
TZOFFSETFROM:-1100
TZOFFSETTO:-1100
TZNAME:SST
DTSTART:19700101T000000
END:STANDARD
END:VTIMEZONE
BEGIN:VEVENT
UID:5072275:Event:1224168
DTSTAMP:20260423T081811Z
SUMMARY:Memory Lane Car Show -Hiawassee, GA
DESCRIPTION:\r\n\n\nFor more information visit https://www.southeastwh
 eelsevents.com/events/memory-lane-car-show-hiawassee-ga
DTSTART;TZID=Pacific/Midway:20220429T000000
DTEND;TZID=Pacific/Midway:20220430T235900
CATEGORIES:car, show, fundraiser
LOCATION:Georgia Mountain Fairgrounds
WEBSITE:https://www.facebook.com/Memory-Lane-Classic-Cars-456353691792
 919/
URL:https://www.facebook.com/Memory-Lane-Classic-Cars-456353691792919/
CONTACT:706-896-4191
ORGANIZER:Memory Lane Museum
ATTACH;FMTTYPE="image/jpeg":https://storage.ning.com/topology/rest/1.0
 /file/get/8810103258?profile=original
ATTENDEE;ROLE=REQ-PARTICIPANT;PARTSTAT=ACCEPTED;RSVP=TRUE;CN="Chuck Aa
 ron":https://www.southeastwheelsevents.com/profile/ChuckAaron886
ATTENDEE;ROLE=REQ-PARTICIPANT;PARTSTAT=ACCEPTED;RSVP=TRUE;CN="Michael 
 Thies":https://www.southeastwheelsevents.com/profile/MichaelThies
END:VEVENT
END:VCALENDAR
