BEGIN:VCALENDAR
PRODID:NingEventWidget-v1
VERSION:2.0
METHOD:PUBLISH
BEGIN:VTIMEZONE
TZID:Pacific/Midway
X-LIC-LOCATION:Pacific/Midway
BEGIN:STANDARD
TZOFFSETFROM:-1100
TZOFFSETTO:-1100
TZNAME:SST
DTSTART:19700101T000000
END:STANDARD
END:VTIMEZONE
BEGIN:VEVENT
UID:5072275:Event:619246
DTSTAMP:20260421T021911Z
SUMMARY:Men of Grace Cruise-In, Sonic Drive In 820 Oak Road, Lawrencev
 ille, GA
DESCRIPTION:The Men of Grace Car Club is hosting a Cruise In on the f
 irst Sunday night of every month from 6pm till 9pm all year leading t
 o our Car Show October 26th, 2013.\nThe Cruise-In is free and will be 
 held at the Sonic Drive In at 820 Oak Road, Lawrenceville, GA 30044 ne
 ar the intersection of Five Forks rd and Oak rd, 2 blocks from Ronald 
 Reagan Pkwy.\n\nFor more information visit https://www.southeastwheels
 events.com/events/men-of-grace-cruise-in-sonic-drive-in-820-oak-road-l
 awrencevill-3
DTSTART;TZID=Pacific/Midway:20130602T180000
DTEND;TZID=Pacific/Midway:20130602T210000
CATEGORIES:cruise-in, free
LOCATION:Sonic Drive In, 820 Oak Road, Lawrenceville, GA
WEBSITE:http://www.gracecarshow.com
URL:http://www.gracecarshow.com
CONTACT:678-488-8608
ORGANIZER;CN="Rus Mazza":https://www.southeastwheelsevents.com/profile
 /RusMazza
ATTACH;FMTTYPE="image/jpeg":http://storage.ning.com/topology/rest/1.0/
 file/get/967630150?profile=original
ATTENDEE;ROLE=REQ-PARTICIPANT;PARTSTAT=ACCEPTED;RSVP=TRUE;CN=Jeff:http
 s://www.southeastwheelsevents.com/profile/Jeff
ATTENDEE;ROLE=REQ-PARTICIPANT;PARTSTAT=ACCEPTED;RSVP=TRUE;CN="Rus Mazz
 a":https://www.southeastwheelsevents.com/profile/RusMazza
END:VEVENT
END:VCALENDAR
