BEGIN:VCALENDAR
PRODID:NingEventWidget-v1
VERSION:2.0
METHOD:PUBLISH
BEGIN:VTIMEZONE
TZID:Pacific/Midway
X-LIC-LOCATION:Pacific/Midway
BEGIN:STANDARD
TZOFFSETFROM:-1100
TZOFFSETTO:-1100
TZNAME:SST
DTSTART:19700101T000000
END:STANDARD
END:VTIMEZONE
BEGIN:VEVENT
UID:5072275:Event:1025001
DTSTAMP:20260419T012849Z
SUMMARY:Metrolina MG Car Club Lunch and Light Conversation
DESCRIPTION:Metrolina MG Car Club Lunch and Light Conversation will ha
 ppen at Jimmy's Restaurant, 7024 Brighton Park Dr, Mint Hill, NC. Conv
 ersation with lunch starts at 11.30am and ends by 12.30pm\n\nFor more 
 information visit https://www.southeastwheelsevents.com/events/metroli
 na-mg-car-club-lunch-and-light-conversation-1
DTSTART;TZID=Pacific/Midway:20161215T113000
DTEND;TZID=Pacific/Midway:20161215T123000
CATEGORIES:cars, "clubs/shows/cruises"
LOCATION:Jimmy's Restaurant
WEBSITE:http://www.metrolinamgcarclub.com/calendar.html
URL:http://www.metrolinamgcarclub.com/calendar.html
CONTACT:
ORGANIZER:Metrolina MG Car Club
ATTACH;FMTTYPE="image/jpeg":http://storage.ning.com/topology/rest/1.0/
 file/get/967717496?profile=original
ATTENDEE;ROLE=REQ-PARTICIPANT;PARTSTAT=ACCEPTED;RSVP=TRUE;CN="Chris go
 sney":https://www.southeastwheelsevents.com/profile/Chrisgosney
END:VEVENT
END:VCALENDAR
