BEGIN:VCALENDAR
PRODID:NingEventWidget-v1
VERSION:2.0
METHOD:PUBLISH
BEGIN:VTIMEZONE
TZID:Pacific/Midway
X-LIC-LOCATION:Pacific/Midway
BEGIN:STANDARD
TZOFFSETFROM:-1100
TZOFFSETTO:-1100
TZNAME:SST
DTSTART:19700101T000000
END:STANDARD
END:VTIMEZONE
BEGIN:VEVENT
UID:5072275:Event:619319
DTSTAMP:20260424T012325Z
SUMMARY:Microcar Museum Auction -Madison, GA
DESCRIPTION:On February15-16 in Madison, GA there will be a No-Reserve
  auction of the contents of the Bruce Weiner Microcar Museum. The addr
 ess is 2950 Eatonton Road and the sale begins at 10AM and runs till 5P
 M both days. Bidder entry to the Auction requires the purchase of 2 pa
 sses for $!50. Spectators will not be allowed.\n\nFor more information
  visit https://www.southeastwheelsevents.com/events/microcar-museum-au
 ction-madison-ga
DTSTART;TZID=Pacific/Midway:20130215T000000
DTEND;TZID=Pacific/Midway:20130216T235900
CATEGORIES:auction
LOCATION:Bruce Weiner Microcar Museum
WEBSITE:http://microcarmuseum.com/
URL:http://microcarmuseum.com/
CONTACT:(519) 352-4575
ORGANIZER:Bruce Weiner Microcar Museum
ATTACH;FMTTYPE="image/jpeg":
ATTENDEE;ROLE=REQ-PARTICIPANT;PARTSTAT=ACCEPTED;RSVP=TRUE;CN="Michael 
 Thies":https://www.southeastwheelsevents.com/profile/MichaelThies
END:VEVENT
END:VCALENDAR
