BEGIN:VCALENDAR
PRODID:NingEventWidget-v1
VERSION:2.0
METHOD:PUBLISH
BEGIN:VTIMEZONE
TZID:Pacific/Midway
X-LIC-LOCATION:Pacific/Midway
BEGIN:STANDARD
TZOFFSETFROM:-1100
TZOFFSETTO:-1100
TZNAME:SST
DTSTART:19700101T000000
END:STANDARD
END:VTIMEZONE
BEGIN:VEVENT
UID:5072275:Event:1024597
DTSTAMP:20260423T101839Z
SUMMARY:Middle Georgia Region AACA Membership Meeting
DESCRIPTION:Middle Georgia Region AACA Membership Meeting will happen 
 at Ole Times Country Buffet. Meeting end time may change\n\nFor more i
 nformation visit https://www.southeastwheelsevents.com/events/middle-g
 eorgia-region-aaca-membership-meeting
DTSTART;TZID=Pacific/Midway:20161215T190000
DTEND;TZID=Pacific/Midway:20161215T210000
CATEGORIES:cars, "clubs/shows/cruises"
LOCATION:Ole Times Country Buffet
WEBSITE:http://www.aacamgr.com/
URL:http://www.aacamgr.com/
CONTACT:
ORGANIZER:Middle Georgia Region AACA
ATTACH;FMTTYPE="image/jpeg":
ATTENDEE;ROLE=REQ-PARTICIPANT;PARTSTAT=ACCEPTED;RSVP=TRUE;CN="Chris go
 sney":https://www.southeastwheelsevents.com/profile/Chrisgosney
END:VEVENT
END:VCALENDAR
