BEGIN:VCALENDAR
PRODID:NingEventWidget-v1
VERSION:2.0
METHOD:PUBLISH
BEGIN:VTIMEZONE
TZID:Pacific/Midway
X-LIC-LOCATION:Pacific/Midway
BEGIN:STANDARD
TZOFFSETFROM:-1100
TZOFFSETTO:-1100
TZNAME:SST
DTSTART:19700101T000000
END:STANDARD
END:VTIMEZONE
BEGIN:VEVENT
UID:5072275:Event:637704
DTSTAMP:20260422T004827Z
SUMMARY:Milledgeville Thunder Rally Milledgeville GA
DESCRIPTION:Official Start time of the rally is Friday @ 12 noon early
  entry Wednesday and Thursday is an additional $10.00 per night…\nFr
 iday - $40.00 per person (Fri, Sat, Sun)\nSaturday - $30.00 per person
  (Sat, Sun) all prices include camping and a re-entry arm band.\nNo Co
 lors - No One under 21 admitted - No ATV’s -  No Glass Bottles - No
  Hookups  - Onsite Camping-  RVs Welcome - Hot Showers - Contests - 
 Miss Thunder Rally Contest -  Shaving  Crème Rasslin’- Poker run 
 - Bike games - Burn-out pit - Live Music - Vendors - Bike Show and MUC
 H more!!! Event is Rain or Shine. The event is BYOB. Convenience store
 s located on Hwy 441 Bypass. Ice sold on the premises at Entrance Gate
 . No electrical or water hookups available in the camping area. Hot sh
 owers are located in Camping Area and near Exit Gate. Port-A-Johns are
  located throughout the grounds. Generators are welcome.  This is a m
 otorcycle rally. There may be noise and music all night long. Remember
 , your picture may be taken by fellow rally goers…….If you don’t
  want anyone to see it later, don’t show it at the rally. Not respon
 sible for accidents, theft or loss of property. Please be safe and con
 siderate of others. Ride Safe and Have Fun!!!\n\nFor more information 
 visit https://www.southeastwheelsevents.com/events/milledgeville-thund
 er-rally-milledgeville-ga
DTSTART;TZID=Pacific/Midway:20130426T000000
DTEND;TZID=Pacific/Midway:20130428T235900
CATEGORIES:biker, party, -, no, one, under, 21
LOCATION:South Creek
WEBSITE:http://www.milledgevillethunderrally.com
URL:http://www.milledgevillethunderrally.com
CONTACT:478-804-2999
ORGANIZER;CN="Thunder Rally":https://www.southeastwheelsevents.com/pro
 file/Thunderrally
ATTACH;FMTTYPE="image/jpeg":http://storage.ning.com/topology/rest/1.0/
 file/get/2631682020?profile=original
ATTENDEE;ROLE=REQ-PARTICIPANT;PARTSTAT=ACCEPTED;RSVP=TRUE;CN="Thunder 
 Rally":https://www.southeastwheelsevents.com/profile/Thunderrally
END:VEVENT
END:VCALENDAR
