BEGIN:VCALENDAR
PRODID:NingEventWidget-v1
VERSION:2.0
METHOD:PUBLISH
BEGIN:VTIMEZONE
TZID:Pacific/Midway
X-LIC-LOCATION:Pacific/Midway
BEGIN:STANDARD
TZOFFSETFROM:-1100
TZOFFSETTO:-1100
TZNAME:SST
DTSTART:19700101T000000
END:STANDARD
END:VTIMEZONE
BEGIN:VEVENT
UID:5072275:Event:1068855
DTSTAMP:20260424T065236Z
SUMMARY:Miracle League Car Show Fundraiser
DESCRIPTION:Car, bike, trucks and Rat rods. We are having a fundraiser
  for special needs children who play baseball here in Pensacola FL thi
 s Saturday 14 Oct.\n\nStart time: 8:00am\n\nTrophies for best in show 
 (car truck and bike), rat rod, best interior, paint, engine and a kids
  choice. For more info www.mlcarshow.org\n\nFor more information visit
  https://www.southeastwheelsevents.com/events/miracle-league-car-show-
 fundraiser
DTSTART;TZID=Pacific/Midway:20171014T080000
DTEND;TZID=Pacific/Midway:20171014T140000
CATEGORIES:fundaiser, for, miracle, league, childeren
LOCATION:Miracle League of Pensacola
WEBSITE:http://Www.mlcarshow.org
URL:http://Www.mlcarshow.org
CONTACT:850-723-6189
ORGANIZER;CN="Rich johnson":https://www.southeastwheelsevents.com/prof
 ile/Richjohnson
ATTACH;FMTTYPE="image/jpeg":
ATTENDEE;ROLE=REQ-PARTICIPANT;PARTSTAT=ACCEPTED;RSVP=TRUE;CN="Rich joh
 nson":https://www.southeastwheelsevents.com/profile/Richjohnson
END:VEVENT
END:VCALENDAR
