BEGIN:VCALENDAR
PRODID:NingEventWidget-v1
VERSION:2.0
METHOD:PUBLISH
BEGIN:VTIMEZONE
TZID:Pacific/Midway
X-LIC-LOCATION:Pacific/Midway
BEGIN:STANDARD
TZOFFSETFROM:-1100
TZOFFSETTO:-1100
TZNAME:SST
DTSTART:19700101T000000
END:STANDARD
END:VTIMEZONE
BEGIN:VEVENT
UID:5072275:Event:1271281
DTSTAMP:20260424T131836Z
SUMMARY:Mobil inqilob: Nega smartfon geymingning asosiy platformasiga 
 aylandi
DESCRIPTION:Soâ€˜nggi oâ€˜n yillik ichida mobil texnologiyalarning shi
 ddatli rivojlanishi nafaqat kommunikatsiya va axborot olamida inqilob 
 qildi, balki geyming sohasini ham butunlay oâ€˜zgartirib yubordi. Bugu
 ngi kunda koâ€˜pchilik oâ€˜yinchilar murakkab kompyuterlar yoki konsol
 larsiz ham sevimli oâ€˜yinlarini istalgan joyda oâ€˜ynay oladi. Ayniqs
 a, mobil qurilmalarda ishlovchi onlayn kazinolar, jumladan,888starz pl
 atformasi orqali foydalanuvchilar nafaqat oâ€˜yinlardan bahra olishmoq
 da, balki real pul yutish imkoniyatiga ham ega boâ€˜lmoqda, va bu jara
 yon butunlay smartfon orqali boshqarilmoqda. Demak, zamonaviy geymer u
 chun asosiy platforma endi choâ€˜ntagida â€” mobil telefonining ichida
 .\n\nMobil geymingning afzalliklariSmartfonlar doim yonimizda boâ€˜lad
 i. Ular oâ€˜yinlarni tez yuklaydi, kuchli grafikaga ega va 5G orqali u
 zluksiz tajriba taqdim etadi. Qurilma soddaligi va texnik imkoniyatlar
 i mobil geymingni yanada ommalashtirmoqda.\nIlovalar va interfeys qula
 yligiBugungi kunda yirik ishlab chiquvchilar mobil ilovalarga ustuvor 
 ahamiyat bermoqda. 888starz UZ ilovasi sport tikish, kazino va slot oâ
 €˜yinlari, jonli efirlar va tahliliy maâ€™lumotlarni taklif etadi. Int
 erfeys sodda va tushunarli.\nMobil kazino tajribasiKazino oâ€˜yinlari 
 â€” poker, ruletka, blackjack â€” endi mobil ilovalarda toâ€˜liq mavju
 d. 888starz ilovasida xavfsizlik yuqori darajada: barcha tranzaksiyala
 r ishonchli tarzda himoyalangan.\nShaxsiylashtirish va innovatsiyaIlov
 alar foydalanuvchi xatti-harakatlariga mos kontent, bonus va tavsiyala
 r taklif etadi. 888starz har bir foydalanuvchiga individual yondashuvn
 i taâ€™minlaydi, bu esa tajribani boyitadi.\nTikish va daromad olishSp
 ort tikish mobil qurilmalar orqali istalgan vaqtda va joyda amalga osh
 irilmoqda. 888starz jonli koeffitsiyentlar, translyatsiyalar va bonusl
 ar bilan ajralib turadi. Tikish jarayoni qulay va tezkor.\nXavfsizlik 
 va toâ€˜lov tizimlari888starz ikki bosqichli autentifikatsiya, shifrla
 ngan serverlar va turli toâ€˜lov usullarini qoâ€˜llab-quvvatlaydi: kar
 ta, elektron hamyon, kriptovalyuta. Bu esa xavfsiz va qulay tajribani 
 kafolatlaydi.\n\nFor more information visit https://www.southeastwheel
 sevents.com/events/mobil-inqilob-nega-smartfon-geymingning-asosiy-plat
 formasiga
DTSTART;TZID=Pacific/Midway:20251012T180000
DTEND;TZID=Pacific/Midway:20251012T190000
CATEGORIES:game
LOCATION:Iowa
WEBSITE:
URL:
CONTACT:
ORGANIZER;CN="Benjamin Degtyaryov":https://www.southeastwheelsevents.c
 om/profile/BenjaminDegtyaryov
ATTACH;FMTTYPE="image/jpeg":
ATTENDEE;ROLE=REQ-PARTICIPANT;PARTSTAT=ACCEPTED;RSVP=TRUE;CN="Benjamin
  Degtyaryov":https://www.southeastwheelsevents.com/profile/BenjaminDeg
 tyaryov
END:VEVENT
END:VCALENDAR
