BEGIN:VCALENDAR
PRODID:NingEventWidget-v1
VERSION:2.0
METHOD:PUBLISH
BEGIN:VTIMEZONE
TZID:Pacific/Midway
X-LIC-LOCATION:Pacific/Midway
BEGIN:STANDARD
TZOFFSETFROM:-1100
TZOFFSETTO:-1100
TZNAME:SST
DTSTART:19700101T000000
END:STANDARD
END:VTIMEZONE
BEGIN:VEVENT
UID:5072275:Event:1251664
DTSTAMP:20260423T023018Z
SUMMARY:Monday Cruise Night - McDonough, GA
DESCRIPTION: Cruise Night at Summit Racing, 1-75 Exit 216.\r\n\r\nSum
 mit Racing Monday Night Cruise--Dodge Charger And Challenger\r\n \n\nF
 or more information visit https://www.southeastwheelsevents.com/events
 /monday-cruise-night-mcdonough-ga-4
DTSTART;TZID=Pacific/Midway:20231023T180000
DTEND;TZID=Pacific/Midway:20231023T200000
CATEGORIES:car, show, cruise, in
LOCATION:Summit Racing
WEBSITE:https://www.summitracing.com/newsandevents/calendar
URL:https://www.summitracing.com/newsandevents/calendar
CONTACT:(770) 288-3200
ORGANIZER:Summit Racing
ATTACH;FMTTYPE="image/jpeg":https://storage.ning.com/topology/rest/1.0
 /file/get/12219352072?profile=original
ATTENDEE;ROLE=REQ-PARTICIPANT;PARTSTAT=ACCEPTED;RSVP=TRUE;CN="Chuck Aa
 ron":https://www.southeastwheelsevents.com/profile/ChuckAaron886
END:VEVENT
END:VCALENDAR
