BEGIN:VCALENDAR
PRODID:NingEventWidget-v1
VERSION:2.0
METHOD:PUBLISH
BEGIN:VTIMEZONE
TZID:Pacific/Midway
X-LIC-LOCATION:Pacific/Midway
BEGIN:STANDARD
TZOFFSETFROM:-1100
TZOFFSETTO:-1100
TZNAME:SST
DTSTART:19700101T000000
END:STANDARD
END:VTIMEZONE
BEGIN:VEVENT
UID:5072275:Event:323634
DTSTAMP:20260423T215346Z
SUMMARY:Summit Monday Night Cruise-In: 2-Seat Sports Cars -McDonough, 
 GA
DESCRIPTION:Monday Night Cruise-In: 2-Seat Sports Cars\nMonday, July 3
 0, 2012 6:00 PM to 8:00 PM Summit Racing Equipment, McDonough, GA *Ope
 n to all vehicles *Featured Vehicles: 2-Seat Sports Cars\n\n\nFor more
  information visit https://www.southeastwheelsevents.com/events/monday
 -night-cruise-in-1950s
DTSTART;TZID=Pacific/Midway:20120730T180000
DTEND;TZID=Pacific/Midway:20120730T200000
CATEGORIES:cruise-in
LOCATION:Summit Racing in McDonough
WEBSITE:http://www.summitracing.com/newsandevents/storydetail/upcoming
 /Monday-Night-Cruise-In-1950s-Cars/
URL:http://www.summitracing.com/newsandevents/storydetail/upcoming/Mon
 day-Night-Cruise-In-1950s-Cars/
CONTACT:330-630-3030
ORGANIZER:Summit Racing Equipment
ATTACH;FMTTYPE="image/jpeg":
ATTENDEE;ROLE=REQ-PARTICIPANT;PARTSTAT=ACCEPTED;RSVP=TRUE;CN="Jack Tho
 mas":https://www.southeastwheelsevents.com/profile/JackThomas
END:VEVENT
END:VCALENDAR
