BEGIN:VCALENDAR
PRODID:NingEventWidget-v1
VERSION:2.0
METHOD:PUBLISH
BEGIN:VTIMEZONE
TZID:Pacific/Midway
X-LIC-LOCATION:Pacific/Midway
BEGIN:STANDARD
TZOFFSETFROM:-1100
TZOFFSETTO:-1100
TZNAME:SST
DTSTART:19700101T000000
END:STANDARD
END:VTIMEZONE
BEGIN:VEVENT
UID:5072275:Event:328986
DTSTAMP:20260423T083658Z
SUMMARY:Monday Night Cruise-In: Convertibles -McDonough. GA
DESCRIPTION:Monday Night Cruise-In: Convertibles\nMonday, August 27, 2
 0112 Summit Racing Equipment, McDonough, GA *Open to all vehicles Feat
 ured Vehicles: Convertibles\n\nFor more information visit https://www.
 southeastwheelsevents.com/events/monday-night-cruise-in
DTSTART;TZID=Pacific/Midway:20120827T180000
DTEND;TZID=Pacific/Midway:20120827T200000
CATEGORIES:cruise-in
LOCATION:Summit Racing in McDonough
WEBSITE:http://www.summitracing.com/newsandevents/storydetail/upcoming
 /Monday-Night-Cruise-In-Convertibles/
URL:http://www.summitracing.com/newsandevents/storydetail/upcoming/Mon
 day-Night-Cruise-In-Convertibles/
CONTACT:
ORGANIZER:Summit
ATTACH;FMTTYPE="image/jpeg":
ATTENDEE;ROLE=REQ-PARTICIPANT;PARTSTAT=ACCEPTED;RSVP=TRUE;CN="Jack Tho
 mas":https://www.southeastwheelsevents.com/profile/JackThomas
END:VEVENT
END:VCALENDAR
