BEGIN:VCALENDAR
PRODID:NingEventWidget-v1
VERSION:2.0
METHOD:PUBLISH
BEGIN:VTIMEZONE
TZID:Pacific/Midway
X-LIC-LOCATION:Pacific/Midway
BEGIN:STANDARD
TZOFFSETFROM:-1100
TZOFFSETTO:-1100
TZNAME:SST
DTSTART:19700101T000000
END:STANDARD
END:VTIMEZONE
BEGIN:VEVENT
UID:5072275:Event:1027654
DTSTAMP:20260421T100629Z
SUMMARY:Monday Sale at Insurance Auto Auctions Chattanooga
DESCRIPTION:Monday Sale at Insurance Auto Auctions. Vehicle Preview: E
 very other Friday 8:00 AM to 4:30 P.M. Vehicles for each auction may b
 e previewed prior to the sale and only those vehicles assigned for tha
 t sale. Sale starts at 9:30 AM and end time may change.\n\nFor more in
 formation visit https://www.southeastwheelsevents.com/events/monday-sa
 le-at-insurance-auto-auctions-chattanooga
DTSTART;TZID=Pacific/Midway:20170116T093000
DTEND;TZID=Pacific/Midway:20170116T140000
CATEGORIES:promo
LOCATION:Insurance Auto Auctions Chattanooga
WEBSITE:https://www.iaai.com/Auctions/BranchListingView.aspx?branchCod
 e=752&aucDate=01162017
URL:https://www.iaai.com/Auctions/BranchListingView.aspx?branchCode=75
 2&aucDate=01162017
CONTACT:
ORGANIZER:Insurance Auto Auctions Inc.
ATTACH;FMTTYPE="image/jpeg":http://storage.ning.com/topology/rest/1.0/
 file/get/967726256?profile=original
ATTENDEE;ROLE=REQ-PARTICIPANT;PARTSTAT=ACCEPTED;RSVP=TRUE;CN="Christop
 her Gosney":https://www.southeastwheelsevents.com/profile/ChristopherG
 osney
END:VEVENT
END:VCALENDAR
