BEGIN:VCALENDAR
PRODID:NingEventWidget-v1
VERSION:2.0
METHOD:PUBLISH
BEGIN:VTIMEZONE
TZID:Pacific/Midway
X-LIC-LOCATION:Pacific/Midway
BEGIN:STANDARD
TZOFFSETFROM:-1100
TZOFFSETTO:-1100
TZNAME:SST
DTSTART:19700101T000000
END:STANDARD
END:VTIMEZONE
BEGIN:VEVENT
UID:5072275:Event:1027441
DTSTAMP:20260421T134917Z
SUMMARY:Monday Sale at Insurance Auto Auctions Huntsville
DESCRIPTION:Monday Sale at Insurance Auto Auctions. Vehicle Preview: E
 very Friday preceding the sale from 8:00 AM-4:30 PM. Vehicles for each
  auction may be previewed prior to the sale and only those vehicles as
 signed for that sale. Sale starts at 9:00 AM and end time may change.\
 n\nFor more information visit https://www.southeastwheelsevents.com/ev
 ents/monday-sale-at-insurance-auto-auctions-huntsville
DTSTART;TZID=Pacific/Midway:20170116T090000
DTEND;TZID=Pacific/Midway:20170116T140000
CATEGORIES:promo
LOCATION:Insurance Auto Auctions
WEBSITE:https://www.iaai.com/Auctions/BranchListingView.aspx?branchCod
 e=729&aucDate=02062017
URL:https://www.iaai.com/Auctions/BranchListingView.aspx?branchCode=72
 9&aucDate=02062017
CONTACT:
ORGANIZER:Insurance Auto Auctions Inc.
ATTACH;FMTTYPE="image/jpeg":http://storage.ning.com/topology/rest/1.0/
 file/get/967724986?profile=original
ATTENDEE;ROLE=REQ-PARTICIPANT;PARTSTAT=ACCEPTED;RSVP=TRUE;CN="Christop
 her Gosney":https://www.southeastwheelsevents.com/profile/ChristopherG
 osney
END:VEVENT
END:VCALENDAR
