BEGIN:VCALENDAR
PRODID:NingEventWidget-v1
VERSION:2.0
METHOD:PUBLISH
BEGIN:VTIMEZONE
TZID:Pacific/Midway
X-LIC-LOCATION:Pacific/Midway
BEGIN:STANDARD
TZOFFSETFROM:-1100
TZOFFSETTO:-1100
TZNAME:SST
DTSTART:19700101T000000
END:STANDARD
END:VTIMEZONE
BEGIN:VEVENT
UID:5072275:Event:1027354
DTSTAMP:20260421T063111Z
SUMMARY:Monday Sale at Insurance Auto Auctions
DESCRIPTION:Monday Sale at Insurance Auto Auctions. Vehicle Preview: F
 riday between the hours of 12:00-4:00 p.m. Vehicles for each auction m
 ay be previewed prior to the sale and only those vehicles assigned for
  that sale. Sale starts at 9:00 am and end time may change.\n\nFor mor
 e information visit https://www.southeastwheelsevents.com/events/monda
 y-sale-at-insurance-auto-auctions
DTSTART;TZID=Pacific/Midway:20170116T090000
DTEND;TZID=Pacific/Midway:20170116T140000
CATEGORIES:promo
LOCATION:Insurance Auto Auctions
WEBSITE:https://www.iaai.com/Auctions/BranchListingView.aspx?branchCod
 e=759&aucDate=01162017
URL:https://www.iaai.com/Auctions/BranchListingView.aspx?branchCode=75
 9&aucDate=01162017
CONTACT:
ORGANIZER:Insurance Auto Auctions Inc.
ATTACH;FMTTYPE="image/jpeg":http://storage.ning.com/topology/rest/1.0/
 file/get/967725609?profile=original
ATTENDEE;ROLE=REQ-PARTICIPANT;PARTSTAT=ACCEPTED;RSVP=TRUE;CN="Christop
 her Gosney":https://www.southeastwheelsevents.com/profile/ChristopherG
 osney
END:VEVENT
END:VCALENDAR
