BEGIN:VCALENDAR
PRODID:NingEventWidget-v1
VERSION:2.0
METHOD:PUBLISH
BEGIN:VTIMEZONE
TZID:Pacific/Midway
X-LIC-LOCATION:Pacific/Midway
BEGIN:STANDARD
TZOFFSETFROM:-1100
TZOFFSETTO:-1100
TZNAME:SST
DTSTART:19700101T000000
END:STANDARD
END:VTIMEZONE
BEGIN:VEVENT
UID:5072275:Event:1027807
DTSTAMP:20260420T225358Z
SUMMARY:Monster Jam at FedExForum - Night 2 of 2
DESCRIPTION:Monster Jam will be held at FedExForum, Memphis, TN. Featu
 ring: Grave Digger driven by Randy Brown, Northern Nightmare driven by
  Cam McQueen, Nitro Menace driven by Darren Migues, Jailbird driven by
  Kaylyn Migues, Midnight Rider driven by Tom Herzog, Wild Thang driven
  by Doug Charles. Trucks/drivers subject to change. Admission fees: Ti
 ckets start at $15. Gates open at 6.00pm. Show starts at 7.00pm. Pit p
 arty starts at 4.30pm to 6.00pm. End time may change.\n\nFor more info
 rmation visit https://www.southeastwheelsevents.com/events/monster-jam
 -at-fedexforum-night-2-of-2
DTSTART;TZID=Pacific/Midway:20170218T180000
DTEND;TZID=Pacific/Midway:20170218T210000
CATEGORIES:off-road, "clubs/shows/cruises"
LOCATION:FedExForum
WEBSITE:https://www.monsterjam.com/en-US/events/memphis-tn-0
URL:https://www.monsterjam.com/en-US/events/memphis-tn-0
CONTACT:
ORGANIZER:Monster Jam
ATTACH;FMTTYPE="image/jpeg":http://storage.ning.com/topology/rest/1.0/
 file/get/967726498?profile=original
ATTENDEE;ROLE=REQ-PARTICIPANT;PARTSTAT=ACCEPTED;RSVP=TRUE;CN="Chris go
 sney":https://www.southeastwheelsevents.com/profile/Chrisgosney
END:VEVENT
END:VCALENDAR
