BEGIN:VCALENDAR
PRODID:NingEventWidget-v1
VERSION:2.0
METHOD:PUBLISH
BEGIN:VTIMEZONE
TZID:Pacific/Midway
X-LIC-LOCATION:Pacific/Midway
BEGIN:STANDARD
TZOFFSETFROM:-1100
TZOFFSETTO:-1100
TZNAME:SST
DTSTART:19700101T000000
END:STANDARD
END:VTIMEZONE
BEGIN:VEVENT
UID:5072275:Event:973377
DTSTAMP:20260422T145717Z
SUMMARY:Monthly Dixie Cruisers Cruise-In -Winder, GA
DESCRIPTION:Monthly Dixie Cruisers Cruise-Ins are held as an Evening 
 Event on the 4th Saturday of the Month.  Location will be the Parkin
 g Lot at Winder Corners / PUBLIX Shopping Ctr, in front of the old Los
  Vaqueros Mexican Restaurant.\r\nCome join us for Cool Cars, Great Foo
 d, 50/50, Door Prizes, DJ , burgers, vendors .... and MORE\r\nLOOKING 
 for VENDORS - CONTACT US \r\nHours:  5:00pm – 8:00pm\n\nFor more i
 nformation visit https://www.southeastwheelsevents.com/events/monthly-
 dixie-cruiser-cruise-in
DTSTART;TZID=Pacific/Midway:20190323T170000
DTEND;TZID=Pacific/Midway:20190323T200000
CATEGORIES:fundraiser, car-show, bike, show
LOCATION:Winder Corners Center / PUBLIX Parking Lot in front of the ol
 d Los Vaqueros Mexican Restaurant
WEBSITE:http://losvaquerosmexrest.com/contact-us/#
URL:http://losvaquerosmexrest.com/contact-us/#
CONTACT:404-414-4060
ORGANIZER:Contact: Charles
ATTACH;FMTTYPE="image/jpeg":http://storage.ning.com/topology/rest/1.0/
 file/get/967707388?profile=original
ATTENDEE;ROLE=REQ-PARTICIPANT;PARTSTAT=ACCEPTED;RSVP=TRUE;CN="Derrick 
 Stidham":https://www.southeastwheelsevents.com/profile/DerrickStidham
ATTENDEE;ROLE=REQ-PARTICIPANT;PARTSTAT=ACCEPTED;RSVP=TRUE;CN="Randall 
 Carmichael":https://www.southeastwheelsevents.com/profile/RandallCarmi
 chael
ATTENDEE;ROLE=REQ-PARTICIPANT;PARTSTAT=ACCEPTED;RSVP=TRUE;CN="Michael 
 Thies":https://www.southeastwheelsevents.com/profile/MichaelThies
ATTENDEE;ROLE=REQ-PARTICIPANT;PARTSTAT=ACCEPTED;RSVP=TRUE;CN="Jeffrey 
 Rutherford":https://www.southeastwheelsevents.com/profile/JeffreyRuthe
 rford866
ATTENDEE;ROLE=REQ-PARTICIPANT;PARTSTAT=TENTATIVE;RSVP=TRUE;CN="Robert 
 Gates":https://www.southeastwheelsevents.com/profile/RobertGates
ATTENDEE;ROLE=REQ-PARTICIPANT;PARTSTAT=TENTATIVE;RSVP=TRUE;CN="John Ba
 ker":https://www.southeastwheelsevents.com/profile/JohnJBaker
END:VEVENT
END:VCALENDAR
