BEGIN:VCALENDAR
PRODID:NingEventWidget-v1
VERSION:2.0
METHOD:PUBLISH
BEGIN:VTIMEZONE
TZID:Pacific/Midway
X-LIC-LOCATION:Pacific/Midway
BEGIN:STANDARD
TZOFFSETFROM:-1100
TZOFFSETTO:-1100
TZNAME:SST
DTSTART:19700101T000000
END:STANDARD
END:VTIMEZONE
BEGIN:VEVENT
UID:5072275:Event:1195694
DTSTAMP:20260424T105042Z
SUMMARY:Monthly Dixie Cruisers Cruise-In -Winder, GA
DESCRIPTION:Monthly Dixie Cruisers Cruise-Ins are held as an Evening 
 Event on the 4th Saturday of the Month.  Location will be The HOLLY 
 HILL MALL, 189 Athens rd, Winder GA. Behind the OZK Bank bldg (Ozark)\
 r\nCome join us for Cool Cars, Great Food, 50/50, Door Prizes, DJ , bu
 rgers, vendors .... and MORE\r\nLOOKING for VENDORS - CONTACT US \r\n
 Hours:  5:00pm – 8:00pm\n\nFor more information visit https://www.s
 outheastwheelsevents.com/events/monthly-dixie-cruisers-cruise-in-winde
 r-ga-9
DTSTART;TZID=Pacific/Midway:20200627T170000
DTEND;TZID=Pacific/Midway:20200627T200000
CATEGORIES:fundraiser, car-show, bike, show
LOCATION:HOLLY HILL MALL
WEBSITE:https://www.facebook.com/DixieCruisers/
URL:https://www.facebook.com/DixieCruisers/
CONTACT:678-975-2422, 770-868-0450
ORGANIZER:Contact: Ray J.,
ATTACH;FMTTYPE="image/jpeg":http://storage.ning.com/topology/rest/1.0/
 file/get/967707388?profile=original
ATTENDEE;ROLE=REQ-PARTICIPANT;PARTSTAT=ACCEPTED;RSVP=TRUE;CN="Michael 
 Thies":https://www.southeastwheelsevents.com/profile/MichaelThies
ATTENDEE;ROLE=REQ-PARTICIPANT;PARTSTAT=TENTATIVE;RSVP=TRUE;CN="Fred Bo
 tts":https://www.southeastwheelsevents.com/profile/FredBotts
ATTENDEE;ROLE=REQ-PARTICIPANT;PARTSTAT=TENTATIVE;RSVP=TRUE;CN="David S
 nyder":https://www.southeastwheelsevents.com/profile/DavidSnyder
END:VEVENT
END:VCALENDAR
