BEGIN:VCALENDAR
PRODID:NingEventWidget-v1
VERSION:2.0
METHOD:PUBLISH
BEGIN:VTIMEZONE
TZID:Pacific/Midway
X-LIC-LOCATION:Pacific/Midway
BEGIN:STANDARD
TZOFFSETFROM:-1100
TZOFFSETTO:-1100
TZNAME:SST
DTSTART:19700101T000000
END:STANDARD
END:VTIMEZONE
BEGIN:VEVENT
UID:5072275:Event:1080251
DTSTAMP:20260419T052243Z
SUMMARY:Monthly Dixie Cruisers Membership Meeting -Winder, GA
DESCRIPTION:The Dixie Cruisers Car Club is holding its April monthly m
 embership meeting at Joys' Home Cooking, 153 West May Street in Winder
 , GA. See https://www.facebook.com/JoysHomeCookingWinder/\r\nThey are
  setting us up in the back meeting room to accomodate the quiet need f
 or a quick meeting. Interested in membershio? You are welocme to just 
 drop in. You do NOT need a collector car to be a club member! If youha
 ve one, bring it to show at the meeting! Family members are welcome, W
 e are \"kid-friendly\".\r\nSponsorship of the Dixie Cruisers is a very
  inexpensive and powerful way to get your business name in front of th
 e community that uses extensive automotive services in the Barrow, Gwi
 nnett and Jackson County region! Join us at our meeting fro dinner or 
 call  Charles 404-414-4060 or Mike 770-883-0160 to discuss.\r\n\n\nF
 or more information visit https://www.southeastwheelsevents.com/events
 /monthly-dixie-cruisers-membership-meeting-winder-ga
DTSTART;TZID=Pacific/Midway:20180410T180000
DTEND;TZID=Pacific/Midway:20180410T200000
CATEGORIES:club, meeting, cruise, in
LOCATION:Joys' Home Cooking
WEBSITE:https://www.facebook.com/DixieCruisers/
URL:https://www.facebook.com/DixieCruisers/
CONTACT:Charles 404-414-4060, Mike 770-883-0160
ORGANIZER:Dixie Cruisers
ATTACH;FMTTYPE="image/jpeg":http://storage.ning.com/topology/rest/1.0/
 file/get/967705847?profile=original
ATTENDEE;ROLE=REQ-PARTICIPANT;PARTSTAT=ACCEPTED;RSVP=TRUE;CN="Michael 
 Thies":https://www.southeastwheelsevents.com/profile/MichaelThies
ATTENDEE;ROLE=REQ-PARTICIPANT;PARTSTAT=TENTATIVE;RSVP=TRUE;CN="Robert 
 D. sauer":https://www.southeastwheelsevents.com/profile/RobertDsauer
ATTENDEE;ROLE=REQ-PARTICIPANT;PARTSTAT=TENTATIVE;RSVP=TRUE;CN="Terry B
 uhite":https://www.southeastwheelsevents.com/profile/TerryBuhite
END:VEVENT
END:VCALENDAR
