BEGIN:VCALENDAR
PRODID:NingEventWidget-v1
VERSION:2.0
METHOD:PUBLISH
BEGIN:VTIMEZONE
TZID:Pacific/Midway
X-LIC-LOCATION:Pacific/Midway
BEGIN:STANDARD
TZOFFSETFROM:-1100
TZOFFSETTO:-1100
TZNAME:SST
DTSTART:19700101T000000
END:STANDARD
END:VTIMEZONE
BEGIN:VEVENT
UID:5072275:Event:1228175
DTSTAMP:20260423T130917Z
SUMMARY:MOOSE IS LOOSE CAR SHOW - McDonough, GA
DESCRIPTION:car show\n\nFor more information visit https://www.southea
 stwheelsevents.com/events/moose-is-loose-car-show-mcdonough-ga
DTSTART;TZID=Pacific/Midway:20210911T100000
DTEND;TZID=Pacific/Midway:20210911T140000
CATEGORIES:fund, raiser
LOCATION:HENRY CO MOOSE LODGE
WEBSITE:
URL:
CONTACT:14042181255
ORGANIZER:michael a harris
ATTACH;FMTTYPE="image/jpeg":
ATTENDEE;ROLE=REQ-PARTICIPANT;PARTSTAT=ACCEPTED;RSVP=TRUE;CN="Michael 
 Thies":https://www.southeastwheelsevents.com/profile/MichaelThies
END:VEVENT
END:VCALENDAR
