BEGIN:VCALENDAR
PRODID:NingEventWidget-v1
VERSION:2.0
METHOD:PUBLISH
BEGIN:VTIMEZONE
TZID:Pacific/Midway
X-LIC-LOCATION:Pacific/Midway
BEGIN:STANDARD
TZOFFSETFROM:-1100
TZOFFSETTO:-1100
TZNAME:SST
DTSTART:19700101T000000
END:STANDARD
END:VTIMEZONE
BEGIN:VEVENT
UID:5072275:Event:756528
DTSTAMP:20260422T000753Z
SUMMARY:Mossy Creek Cruzers 4th Annual Car Show =Jefferson City, TN
DESCRIPTION:Registration $20\nOpen Car Show\nDash plaques for first 15
 0 Entrants\nPHOTOS for Top 20 Vehicles\nDoor Prizes - 50/50 Tickets - 
 Vendors - Food Available - Music\nWe support local charities\nThis sho
 w was formerly held at Bush's Visitor Center\n\nFor more information v
 isit https://www.southeastwheelsevents.com/events/mossy-creek-cruzers-
 4th-annual-car-show
DTSTART;TZID=Pacific/Midway:20140712T090000
DTEND;TZID=Pacific/Midway:20140712T150000
CATEGORIES:car, show
LOCATION:Jefferson Middle School
WEBSITE:http://www.mossycreekcruzers.org
URL:http://www.mossycreekcruzers.org
CONTACT:865-363-5891
ORGANIZER;CN="Pat Dukes":https://www.southeastwheelsevents.com/profile
 /PatDukes
ATTACH;FMTTYPE="image/jpeg":
ATTENDEE;ROLE=REQ-PARTICIPANT;PARTSTAT=ACCEPTED;RSVP=TRUE;CN="Pat Duke
 s":https://www.southeastwheelsevents.com/profile/PatDukes
END:VEVENT
END:VCALENDAR
