BEGIN:VCALENDAR
PRODID:NingEventWidget-v1
VERSION:2.0
METHOD:PUBLISH
BEGIN:VTIMEZONE
TZID:Pacific/Midway
X-LIC-LOCATION:Pacific/Midway
BEGIN:STANDARD
TZOFFSETFROM:-1100
TZOFFSETTO:-1100
TZNAME:SST
DTSTART:19700101T000000
END:STANDARD
END:VTIMEZONE
BEGIN:VEVENT
UID:5072275:Event:872432
DTSTAMP:20260424T073600Z
SUMMARY:MotoAmerica Racing -Road Atlanta – Braselton, GA
DESCRIPTION:\n“The MotoAmerica Road Racing Series is shaping up nice
 ly,” said Chuck Aksland. “The positive responses from race tracks 
 and the road racing community have been great, and because of this sup
 port we were able to build a solid road racing series schedule for 201
 6. Our aim is to have a nine-race 2016 MotoAmerica Road Racing Champio
 nship. We are working on confirmation of an additional venue and hope 
 to have this completed very soon.”   About MotoAmerica  MotoAmerica
  is the new North American roadracing series created in 2014. MotoAmer
 ica is an affiliate of KRAVE Group LLC, a partnership that includes th
 ree-time 500cc World Grand Prix Champion Wayne Rainey, ex-racer and fo
 rmer manager of Team Roberts Chuck Aksland, motorsports marketing exec
 utive Terry Karges, and businessman Richard Varner.\n\nFor more inform
 ation visit https://www.southeastwheelsevents.com/events/motoamerica-r
 acing-road-atlanta-braselton-g
DTSTART;TZID=Pacific/Midway:20160415T000000
DTEND;TZID=Pacific/Midway:20160417T235900
CATEGORIES:motorcycle, racing
LOCATION:Road Atlanta
WEBSITE:http://www.motoamerica.com/
URL:http://www.motoamerica.com/
CONTACT:714.242.5954
ORGANIZER:MotoAmerica Racing
ATTACH;FMTTYPE="image/jpeg":http://storage.ning.com/topology/rest/1.0/
 file/get/967680653?profile=original
ATTENDEE;ROLE=REQ-PARTICIPANT;PARTSTAT=ACCEPTED;RSVP=TRUE;CN="Chuck Aa
 ron":https://www.southeastwheelsevents.com/profile/ChuckAaron
END:VEVENT
END:VCALENDAR
