BEGIN:VCALENDAR
PRODID:NingEventWidget-v1
VERSION:2.0
METHOD:PUBLISH
BEGIN:VTIMEZONE
TZID:Pacific/Midway
X-LIC-LOCATION:Pacific/Midway
BEGIN:STANDARD
TZOFFSETFROM:-1100
TZOFFSETTO:-1100
TZNAME:SST
DTSTART:19700101T000000
END:STANDARD
END:VTIMEZONE
BEGIN:VEVENT
UID:5072275:Event:1245661
DTSTAMP:20260423T130958Z
SUMMARY:Motorcycle Gathering and Bike Blessing -Chattanooga, TN
DESCRIPTION:\r\n\r\nWeather permitting... Meet at our ride point, KSU 
 7am sharpWe will stop for breakfast along the way\n\nFor more informat
 ion visit https://www.southeastwheelsevents.com/events/motorcycle-gath
 ering-and-bike-blessing-chattanooga-tn
DTSTART;TZID=Pacific/Midway:20230408T070000
DTEND;TZID=Pacific/Midway:20230408T170000
CATEGORIES:bike, rally, blessing
LOCATION:4301 Amnicola Highway
WEBSITE:https://www.facebook.com/groups/crossties
URL:https://www.facebook.com/groups/crossties
CONTACT:Ricky Berry
ORGANIZER:
ATTACH;FMTTYPE="image/jpeg":http://storage.ning.com/topology/rest/1.0/
 file/get/967628452?profile=original
ATTENDEE;ROLE=REQ-PARTICIPANT;PARTSTAT=ACCEPTED;RSVP=TRUE;CN="Chuck Aa
 ron":https://www.southeastwheelsevents.com/profile/ChuckAaron886
END:VEVENT
END:VCALENDAR
