BEGIN:VCALENDAR
PRODID:NingEventWidget-v1
VERSION:2.0
METHOD:PUBLISH
BEGIN:VTIMEZONE
TZID:Pacific/Midway
X-LIC-LOCATION:Pacific/Midway
BEGIN:STANDARD
TZOFFSETFROM:-1100
TZOFFSETTO:-1100
TZNAME:SST
DTSTART:19700101T000000
END:STANDARD
END:VTIMEZONE
BEGIN:VEVENT
UID:5072275:Event:1025811
DTSTAMP:20260424T065412Z
SUMMARY:Motorcycles, Clubs/Shows/Cruises
DESCRIPTION:Coffee-N-Cars Meet will happen at Porsche of Jackson. Star
 ts at 9:00 AM and ends by 11:00 AM.\n\nFor more information visit http
 s://www.southeastwheelsevents.com/events/motorcycles-clubs-shows-cruis
 es
DTSTART;TZID=Pacific/Midway:20161217T090000
DTEND;TZID=Pacific/Midway:20161217T110000
CATEGORIES:cars, "clubs/shows/cruises"
LOCATION:Porsche of Jackson
WEBSITE:http://www.magnoliapca.com/calendar/index.html
URL:http://www.magnoliapca.com/calendar/index.html
CONTACT:
ORGANIZER:Magnolia Region PCA
ATTACH;FMTTYPE="image/jpeg":http://storage.ning.com/topology/rest/1.0/
 file/get/967721039?profile=original
ATTENDEE;ROLE=REQ-PARTICIPANT;PARTSTAT=ACCEPTED;RSVP=TRUE;CN="Chris go
 sney":https://www.southeastwheelsevents.com/profile/Chrisgosney
END:VEVENT
END:VCALENDAR
