BEGIN:VCALENDAR
PRODID:NingEventWidget-v1
VERSION:2.0
METHOD:PUBLISH
BEGIN:VTIMEZONE
TZID:Pacific/Midway
X-LIC-LOCATION:Pacific/Midway
BEGIN:STANDARD
TZOFFSETFROM:-1100
TZOFFSETTO:-1100
TZNAME:SST
DTSTART:19700101T000000
END:STANDARD
END:VTIMEZONE
BEGIN:VEVENT
UID:5072275:Event:1053137
DTSTAMP:20260419T035900Z
SUMMARY:Motul Petit Le Mans -Brazelton, GA
DESCRIPTION:\r\nMotul Petit Le Mans(French for little Le Mans) is a sp
 orts car endurance race held annually at Road Atlanta in Braselton, Ge
 orgia, USA. It uses the rules established for the 24 hours of Le Mans 
 by the Automobile Club de l'Ouest (ACO), which are slightly modified i
 f necessary, mainly to allow additional cars to compete.\r\n\r\nThe ra
 ce was founded by Road Atlanta owner Don Panoz and first run on Octobe
 r 10, 1998 as part of the IMSA season. The 1999 edition was one of the
  original events of the American Le Mans Series.\r\n\r\n In celebrati
 on of the 20th anniversary of the famed Motul Petit Le Mans, Road Atla
 nta will offer a multitude of new fan activities at this year’s even
 t to support the wheel-to-wheel racing action on track, October 4 - 7.
 \r\nSince the very first Petit Le Mans in 1998, Road Atlanta has been 
 an international stage for one of the most iconic sportscar races in h
 istory. Owing its heritage to the 24 Hours of Le Mans in La Sarthe, Fr
 ance, Motul Petit Le Mans will celebrate 20 years of the event in styl
 e for the season finale of the IMSA WeatherTech SportsCar Championship
  and the Patrón North American Endurance Cup.\r\nGuests can expect to
  see some of the biggest additions in the vendor and display area, whi
 ch has been re-named the “Fan Zone” beginning this year. Here, fan
 s can shop for various pieces of racing memorabilia and art, dine and 
 drink, peruse manufacturer displays and much more. Also new for this y
 ear, the Fan Zone will be freshly paved and the overall footprint will
  be enlarged.\r\nIn honor of the 20th anniversary of Motul Petit Le Ma
 ns and in paying homage to the race’s roots at Le Mans, a 90-foot ta
 ll Ferris Wheel will be erected within the Fan Zone so that guests can
  take in the views of the race track. Families can enjoy the full-size
  gondolas on the way up to the very top, which will showcase a good po
 rtion of the track and will light up at night.\r\nIn addition to the s
 pectacular new interactive displays in the Fan Zone, Zac Brown’s Sou
 thern Ground will be hosting a free tailgate for all general admission
  ticket holders, which will include a four-day party in the Fan Zone. 
 The famous “Cookie” party zone will be set up starting Wednesday o
 f race week with yard games, live entertainment, music, inspired food 
 choices, merchandise and a low-country boil to kick off the event. The
  Wednesday night low-country boil will be open to all fans and is an a
 ll-you-can-eat buffet for just $15.00 in advance. The Southern Ground 
 tailgate will keep rocking all week and host live entertainment on Fri
 day evening after the day’s on-track activities wrap.\r\nFans intere
 sted in the history of Petit Le Mans will be in for a special treat th
 is year, as they can see race cars from the past on exhibit in the 20t
 h Anniversary Celebration Tent in the Fan Zone. This extravagant tent 
 will feature a number of past race-winning cars or ones with an intere
 sting Petit Le Mans story, as well as memorabilia and the story of eac
 h of the 19 Petit Le Mans. Fans can also catch a series Q&A session an
 d watch a highlight reel of the last two decades of this event.\r\n \
 r\nFor More Information Click Here\n\nFor more information visit https
 ://www.southeastwheelsevents.com/events/motul-petit-le-mans
DTSTART;TZID=Pacific/Midway:20171004T000000
DTEND;TZID=Pacific/Midway:20171007T235900
CATEGORIES:automotive, racing
LOCATION:Road Atlanta
WEBSITE:
URL:
CONTACT:770-967-6143
ORGANIZER:Road Atlanta
ATTACH;FMTTYPE="image/jpeg":http://storage.ning.com/topology/rest/1.0/
 file/get/967747266?profile=original
ATTENDEE;ROLE=REQ-PARTICIPANT;PARTSTAT=ACCEPTED;RSVP=TRUE;CN="Lee Gosn
 ey":https://www.southeastwheelsevents.com/profile/LeeGosney
ATTENDEE;ROLE=REQ-PARTICIPANT;PARTSTAT=ACCEPTED;RSVP=TRUE;CN="Chuck Aa
 ron":https://www.southeastwheelsevents.com/profile/ChuckAaron886
ATTENDEE;ROLE=REQ-PARTICIPANT;PARTSTAT=ACCEPTED;RSVP=TRUE;CN="Stephen 
 Mohr":https://www.southeastwheelsevents.com/profile/StephenAMohr
END:VEVENT
END:VCALENDAR
