BEGIN:VCALENDAR
PRODID:NingEventWidget-v1
VERSION:2.0
METHOD:PUBLISH
BEGIN:VTIMEZONE
TZID:Pacific/Midway
X-LIC-LOCATION:Pacific/Midway
BEGIN:STANDARD
TZOFFSETFROM:-1100
TZOFFSETTO:-1100
TZNAME:SST
DTSTART:19700101T000000
END:STANDARD
END:VTIMEZONE
BEGIN:VEVENT
UID:5072275:Event:1251830
DTSTAMP:20260425T075429Z
SUMMARY:Mount Holly Church Car Show - Carrolton, GA
DESCRIPTION:Mount Holly Church Car Show\n\nFor more information visit 
 https://www.southeastwheelsevents.com/events/mount-holly-church-car-sh
 ow-carrolton-ga
DTSTART;TZID=Pacific/Midway:20230909T180000
DTEND;TZID=Pacific/Midway:20230909T190000
CATEGORIES:car, show, church
LOCATION:4687 Hwy 27 North
WEBSITE:
URL:
CONTACT:John 770-403-0161
ORGANIZER:
ATTACH;FMTTYPE="image/jpeg":https://storage.ning.com/topology/rest/1.0
 /file/get/12219289487?profile=original
ATTENDEE;ROLE=REQ-PARTICIPANT;PARTSTAT=ACCEPTED;RSVP=TRUE;CN="Chuck Aa
 ron":https://www.southeastwheelsevents.com/profile/ChuckAaron886
END:VEVENT
END:VCALENDAR
