BEGIN:VCALENDAR
PRODID:NingEventWidget-v1
VERSION:2.0
METHOD:PUBLISH
BEGIN:VTIMEZONE
TZID:Pacific/Midway
X-LIC-LOCATION:Pacific/Midway
BEGIN:STANDARD
TZOFFSETFROM:-1100
TZOFFSETTO:-1100
TZNAME:SST
DTSTART:19700101T000000
END:STANDARD
END:VTIMEZONE
BEGIN:VEVENT
UID:5072275:Event:534570
DTSTAMP:20260424T112858Z
SUMMARY:Mountain Harvest Festival Car Show  - Hendersonville, NC
DESCRIPTION:Mountain Harvest Festival Car Show  - Hendersonville, NC\
 nPlus Cruising The Blue Ridge Parkway - \n\nFor more information visi
 t https://www.southeastwheelsevents.com/events/mountain-harvest-festiv
 al-car-show-hendersonville-nc
DTSTART;TZID=Pacific/Midway:20121012T000000
DTEND;TZID=Pacific/Midway:20121014T235900
CATEGORIES:car-show, cruise
LOCATION:Mountain Harvest Festival
WEBSITE:
URL:
CONTACT:828-329-4871
ORGANIZER:Bruce Hatfield
ATTACH;FMTTYPE="image/jpeg":http://storage.ning.com/topology/rest/1.0/
 file/get/967616838?profile=original
ATTENDEE;ROLE=REQ-PARTICIPANT;PARTSTAT=ACCEPTED;RSVP=TRUE;CN="Michael 
 Thies":https://www.southeastwheelsevents.com/profile/MichaelThies
END:VEVENT
END:VCALENDAR
