BEGIN:VCALENDAR
PRODID:NingEventWidget-v1
VERSION:2.0
METHOD:PUBLISH
BEGIN:VTIMEZONE
TZID:Pacific/Midway
X-LIC-LOCATION:Pacific/Midway
BEGIN:STANDARD
TZOFFSETFROM:-1100
TZOFFSETTO:-1100
TZNAME:SST
DTSTART:19700101T000000
END:STANDARD
END:VTIMEZONE
BEGIN:VEVENT
UID:5072275:Event:1228720
DTSTAMP:20260423T131210Z
SUMMARY:Mountain Moonshine Festival  -Dawsonville, GA
DESCRIPTION:\"Car Show\" is an understatement at the Mountain Moonshin
 e Festival.  Car Show is Friday, Saturday, and Sunday.  Show Cars ca
 n choose which area they prefer to park/participate.  Here are your o
 ptions:\r\n​\r\nGeneral Car Show\r\npark in first come, first-serve 
 area for judged car show\r\nPremium Reserved Show Parking\r\nreserved 
 numbered space in judged car show, yours for the weekend.  Must be pr
 e-registered.\r\nMoonshine Hauling Car Display Cars\r\nMust be 1964 an
 d older and pre-registered. Cars and not judged.\r\nGalaxie Display Ca
 rs\r\nSeparate area for Galaxy parking.\r\nRace Car Parade/Parking\r\n
 Must be in the parade and park in City Park for duration of festival h
 ours.  Cars are not judged.\r\n​\r\nJudged Awards on Saturday. Peop
 le's Choice Award on Sunday.\n\nFor more information visit https://www
 .southeastwheelsevents.com/events/mountain-moonshine-festival-dawsonvi
 lle-ga
DTSTART;TZID=Pacific/Midway:20231027T000000
DTEND;TZID=Pacific/Midway:20231029T235900
CATEGORIES:3, day, benefit, for, kare, kids, inc
LOCATION:All Over The City
WEBSITE:https://www.kareforkids.org/mountain-moonshine-festival
URL:https://www.kareforkids.org/mountain-moonshine-festival
CONTACT:706-216-5273
ORGANIZER:Kare For Kids, Inc
ATTACH;FMTTYPE="image/jpeg":https://storage.ning.com/topology/rest/1.0
 /file/get/9565866891?profile=original
ATTENDEE;ROLE=REQ-PARTICIPANT;PARTSTAT=TENTATIVE;RSVP=TRUE;CN="Jeffrey
  Rutherford":https://www.southeastwheelsevents.com/profile/JeffreyRuth
 erford866
END:VEVENT
END:VCALENDAR
