BEGIN:VCALENDAR
PRODID:NingEventWidget-v1
VERSION:2.0
METHOD:PUBLISH
BEGIN:VTIMEZONE
TZID:Pacific/Midway
X-LIC-LOCATION:Pacific/Midway
BEGIN:STANDARD
TZOFFSETFROM:-1100
TZOFFSETTO:-1100
TZNAME:SST
DTSTART:19700101T000000
END:STANDARD
END:VTIMEZONE
BEGIN:VEVENT
UID:5072275:Event:219428
DTSTAMP:20260424T103901Z
SUMMARY:Mountain Valley Community Bank Car Show -Cleveland, GA
DESCRIPTION:Mountain Valley  Community Bank will be holding our Car 
 Show.  We will have door prizes and 50/50 drawing.  .\n\nFor more in
 formation visit https://www.southeastwheelsevents.com/events/mountain-
 valley-community-bank
DTSTART;TZID=Pacific/Midway:20200627T100000
DTEND;TZID=Pacific/Midway:20200627T160000
CATEGORIES:cruise-in, benefit
LOCATION:Mountain Valley Community Bank Parking Lot
WEBSITE:
URL:
CONTACT:706-865-1905
ORGANIZER:
ATTACH;FMTTYPE="image/jpeg":http://storage.ning.com/topology/rest/1.0/
 file/get/967592590?profile=original
ATTENDEE;ROLE=REQ-PARTICIPANT;PARTSTAT=ACCEPTED;RSVP=TRUE;CN="Mindy Cl
 ark":https://www.southeastwheelsevents.com/profile/MindyClark
ATTENDEE;ROLE=REQ-PARTICIPANT;PARTSTAT=ACCEPTED;RSVP=TRUE;CN="joe good
 mon":https://www.southeastwheelsevents.com/profile/joegoodmon
END:VEVENT
END:VCALENDAR
