BEGIN:VCALENDAR
PRODID:NingEventWidget-v1
VERSION:2.0
METHOD:PUBLISH
BEGIN:VTIMEZONE
TZID:Pacific/Midway
X-LIC-LOCATION:Pacific/Midway
BEGIN:STANDARD
TZOFFSETFROM:-1100
TZOFFSETTO:-1100
TZNAME:SST
DTSTART:19700101T000000
END:STANDARD
END:VTIMEZONE
BEGIN:VEVENT
UID:5072275:Event:49990
DTSTAMP:20260422T021551Z
SUMMARY:Mountain View Correctional Annual Car Show -Spruce Pine, NC
DESCRIPTION:10th Annual Mountain View Correctional Car Show\nFor Speci
 al Olympics\nTop 50 Trophies for Cars/Trucks\nTop 3 Motorcycles\nPeopl
 es Choice\nBest Of Show\nEntry Fee $15.00\nAll proceeds go to North Ca
 rolina Special Olympics\nMusic from the fifties\nHamburger and hotdogs
 - chips and drinks\nT-Shirt and goodies bag to each entry\nOver 100 do
 or-prizes to be given away\n\nFor Information call Linda Miller 828-76
 6-2395 after 5:00 p.m. call 828-688-5965\n\nFor more information visit
  https://www.southeastwheelsevents.com/events/mountain-view-correction
 al
DTSTART;TZID=Pacific/Midway:20100814T090000
DTEND;TZID=Pacific/Midway:20100814T160000
CATEGORIES:fundraiser, for, special, olympics
LOCATION:Spruce Pine North Carolina Lower Street
WEBSITE:
URL:
CONTACT:828-766-2395 or 828-688-5965
ORGANIZER;CN="Linda Joan Miller":https://www.southeastwheelsevents.com
 /profile/LindaJoanMiller
ATTACH;FMTTYPE="image/jpeg":
ATTENDEE;ROLE=REQ-PARTICIPANT;PARTSTAT=ACCEPTED;RSVP=TRUE;CN="Linda Jo
 an Miller":https://www.southeastwheelsevents.com/profile/LindaJoanMill
 er
END:VEVENT
END:VCALENDAR
