BEGIN:VCALENDAR
PRODID:NingEventWidget-v1
VERSION:2.0
METHOD:PUBLISH
BEGIN:VTIMEZONE
TZID:Pacific/Midway
X-LIC-LOCATION:Pacific/Midway
BEGIN:STANDARD
TZOFFSETFROM:-1100
TZOFFSETTO:-1100
TZNAME:SST
DTSTART:19700101T000000
END:STANDARD
END:VTIMEZONE
BEGIN:VEVENT
UID:5072275:Event:1228200
DTSTAMP:20260423T093712Z
SUMMARY:Mt. Gilead Baptist Car and Truck Show -Griffin, GA
DESCRIPTION:Mt. Gilead Baptist Car and Truck Show.  All cars, trucks 
 and years are welcome.  To benefit the young adult class.  9am-2pm 
  Food, Fun, Music,Door Prizes, Trophy's and more.  14550 Hwy 19 Griff
 in, GA 30224\n\nFor more information visit https://www.southeastwheels
 events.com/events/mt-gilead-baptist-car-and-truck-show
DTSTART;TZID=Pacific/Midway:20211023T090000
DTEND;TZID=Pacific/Midway:20211023T140000
CATEGORIES:car, and, truck, show
LOCATION:Mt. Gilead Baptist Church
WEBSITE:
URL:
CONTACT:843 247 8040
ORGANIZER;CN="Daniel Clendenen":https://www.southeastwheelsevents.com/
 profile/DanielClendenen
ATTACH;FMTTYPE="image/jpeg":https://storage.ning.com/topology/rest/1.0
 /file/get/9519668659?profile=original
ATTENDEE;ROLE=REQ-PARTICIPANT;PARTSTAT=ACCEPTED;RSVP=TRUE;CN="Daniel C
 lendenen":https://www.southeastwheelsevents.com/profile/DanielClendene
 n
END:VEVENT
END:VCALENDAR
