BEGIN:VCALENDAR
PRODID:NingEventWidget-v1
VERSION:2.0
METHOD:PUBLISH
BEGIN:VTIMEZONE
TZID:Pacific/Midway
X-LIC-LOCATION:Pacific/Midway
BEGIN:STANDARD
TZOFFSETFROM:-1100
TZOFFSETTO:-1100
TZNAME:SST
DTSTART:19700101T000000
END:STANDARD
END:VTIMEZONE
BEGIN:VEVENT
UID:5072275:Event:1159827
DTSTAMP:20260423T143738Z
SUMMARY:Music City Classic Auction
DESCRIPTION:Auctioning off several classic vehicles.\n\nFor more infor
 mation visit https://www.southeastwheelsevents.com/events/music-city-c
 lassic-auction
DTSTART;TZID=Pacific/Midway:20190323T100000
DTEND;TZID=Pacific/Midway:20190323T150000
CATEGORIES:classic, car, auction
LOCATION:DAA Dealer Auction
WEBSITE:http://southernclassicauctions.com
URL:http://southernclassicauctions.com
CONTACT:615-496-2277
ORGANIZER:George Eber
ATTACH;FMTTYPE="image/jpeg":https://storage.ning.com/topology/rest/1.0
 /file/get/1534048235?profile=original
ATTENDEE;ROLE=REQ-PARTICIPANT;PARTSTAT=ACCEPTED;RSVP=TRUE;CN="Pauline 
 Zeitner":https://www.southeastwheelsevents.com/profile/PaulineZeitner
END:VEVENT
END:VCALENDAR
