BEGIN:VCALENDAR
PRODID:NingEventWidget-v1
VERSION:2.0
METHOD:PUBLISH
BEGIN:VTIMEZONE
TZID:Pacific/Midway
X-LIC-LOCATION:Pacific/Midway
BEGIN:STANDARD
TZOFFSETFROM:-1100
TZOFFSETTO:-1100
TZNAME:SST
DTSTART:19700101T000000
END:STANDARD
END:VTIMEZONE
BEGIN:VEVENT
UID:5072275:Event:1099537
DTSTAMP:20260420T062812Z
SUMMARY:Music City Mopar Club's 29th Annual All Mopar Car and Truck Sh
 ow - Lebanon, Tn
DESCRIPTION:Music City Mopar Club's 29th Annual All Mopar Car and  Tr
 uck Show at Wilson Co. Fairgrounds.\n\nFor more information visit http
 s://www.southeastwheelsevents.com/events/music-city-mopar-club-s-29th-
 annual-all-mopar-car-and-truck-show
DTSTART;TZID=Pacific/Midway:20180922T080000
DTEND;TZID=Pacific/Midway:20180922T160000
CATEGORIES:car, and, truck, show
LOCATION:Wilson Co. Fairgrounds,
WEBSITE:http://musiccitymoparclub.com
URL:http://musiccitymoparclub.com
CONTACT:(615) 406-1062
ORGANIZER:Gary Garner
ATTACH;FMTTYPE="image/jpeg":http://storage.ning.com/topology/rest/1.0/
 file/get/967791992?profile=original
ATTENDEE;ROLE=REQ-PARTICIPANT;PARTSTAT=ACCEPTED;RSVP=TRUE;CN="Anthony 
 Hopkins":https://www.southeastwheelsevents.com/profile/AnthonyHopkins
END:VEVENT
END:VCALENDAR
