BEGIN:VCALENDAR
PRODID:NingEventWidget-v1
VERSION:2.0
METHOD:PUBLISH
BEGIN:VTIMEZONE
TZID:Pacific/Midway
X-LIC-LOCATION:Pacific/Midway
BEGIN:STANDARD
TZOFFSETFROM:-1100
TZOFFSETTO:-1100
TZNAME:SST
DTSTART:19700101T000000
END:STANDARD
END:VTIMEZONE
BEGIN:VEVENT
UID:5072275:Event:763414
DTSTAMP:20260423T230922Z
SUMMARY:Mustang Owner's Museum Car Festival -Concord, NC
DESCRIPTION:\r\n\r\n\r\n\r\n\r\n2024 National Mustang Day Event April 
 12 - 13, 2024 ​Celebrate 60 Years of Mustang at the Mustang Owner's 
 Museum, as the Museum will host it's Annual National Mustang Day Event
  on April 12th & 13th.  Friday, April 12th On Friday the event attende
 es will cruise to fun destinations about 30 minutes from the Museum. 
 The Friday morning cruise will be to the Whiskey Prison. This former 
 North Carolina prison has been converted into a distillery. Even if yo
 u're not into liquor, you'll still love a tour of the \"Whiskey Prison
 .\" The Friday afternoon cruise will be to the NASCAR Technical Instit
 ute Campus. Here attendees will get a behind-the-scenes look at the cl
 assrooms and labs. The Friday Night Dinner will start at 6PM. Back by 
 popular demand, dinner will include a whole hog BBQ and smoked chicken
  with all the fixins. Limited tickets will be available due to the num
 ber of people the whole hog will serve. After Dinner, Steve Saleen wil
 l be our Guest Speaker. Dinner will be held at the Cabarrus Brewing Co
 mpany.  Whole Hod BBQ dinner is now Sold Out.  Saturday, April 13th T
 he Museum Car Show field opens at 9AM, with the event guest speakers, 
 event attendees and the Hall of Fame Inductees choosing their favorite
  vehicles. Guest speakers from 11AM-12PM and from 1PM-3PM. Steve Salee
 n, Founder and CEO of Saleen Automotive. Jerry Heasley, Journalist for
  automotive magazines Hot Rod Mustang and Mustang Monthly. More speake
 rs will be announced as they confirm confirmed. At 3PM, the Car Show A
 wards will be given out and the winning ticket for the 1987 Fox Body M
 ustang will be pulled. Click here to get your giveaway ticket! At 6PM,
  the doors open for the Hall of Fame Induction Dinner. Dinner is serve
 d at 6:30PM, with the Induction starting at 7PM. To register for the 2
 024 National Mustang Day Event, CLICK HERE.\r\n\n\nFor more informatio
 n visit https://www.southeastwheelsevents.com/events/mustang-50th-birt
 hday-celebration-charlotte-nc
DTSTART;TZID=Pacific/Midway:20240412T000000
DTEND;TZID=Pacific/Midway:20240413T235900
CATEGORIES:car-show, celebration
LOCATION:Mustang Owner's Museum
WEBSITE:https://www.mustangownersmuseum.com/
URL:https://www.mustangownersmuseum.com/
CONTACT:info@mustangownersmuseum.com 980-439-5653
ORGANIZER:Mustang Owner's Museum
ATTACH;FMTTYPE="image/jpeg":https://storage.ning.com/topology/rest/1.0
 /file/get/12423126481?profile=original
ATTENDEE;ROLE=REQ-PARTICIPANT;PARTSTAT=ACCEPTED;RSVP=TRUE;CN="Chuck Aa
 ron":https://www.southeastwheelsevents.com/profile/ChuckAaron
END:VEVENT
END:VCALENDAR
