BEGIN:VCALENDAR
PRODID:NingEventWidget-v1
VERSION:2.0
METHOD:PUBLISH
BEGIN:VTIMEZONE
TZID:Pacific/Midway
X-LIC-LOCATION:Pacific/Midway
BEGIN:STANDARD
TZOFFSETFROM:-1100
TZOFFSETTO:-1100
TZNAME:SST
DTSTART:19700101T000000
END:STANDARD
END:VTIMEZONE
BEGIN:VEVENT
UID:5072275:Event:1082950
DTSTAMP:20260423T153053Z
SUMMARY:Mustang &amp; Ford Powered show &amp; shine- Harriman, TN
DESCRIPTION:Mustang & Ford Powered show & shine\n\nFor more informatio
 n visit https://www.southeastwheelsevents.com/events/mustang-amp-ford-
 powered-show-amp-shine-harriman-tn
DTSTART;TZID=Pacific/Midway:20180512T180000
DTEND;TZID=Pacific/Midway:20180512T190000
CATEGORIES:mustang, "&amp", ford, powered, show
LOCATION:Jerry Duncan Ford Lincoln
WEBSITE:http://smokymountainmustangclub.com
URL:http://smokymountainmustangclub.com
CONTACT:(865) 482-5850
ORGANIZER:Dick Ziegler
ATTACH;FMTTYPE="image/jpeg":http://storage.ning.com/topology/rest/1.0/
 file/get/967768884?profile=original
ATTENDEE;ROLE=REQ-PARTICIPANT;PARTSTAT=ACCEPTED;RSVP=TRUE;CN="Anthony 
 Hopkins":https://www.southeastwheelsevents.com/profile/AnthonyHopkins
END:VEVENT
END:VCALENDAR
