BEGIN:VCALENDAR
PRODID:NingEventWidget-v1
VERSION:2.0
METHOD:PUBLISH
BEGIN:VTIMEZONE
TZID:Pacific/Midway
X-LIC-LOCATION:Pacific/Midway
BEGIN:STANDARD
TZOFFSETFROM:-1100
TZOFFSETTO:-1100
TZNAME:SST
DTSTART:19700101T000000
END:STANDARD
END:VTIMEZONE
BEGIN:VEVENT
UID:5072275:Event:755294
DTSTAMP:20260423T220709Z
SUMMARY:N-Vasion Car Show (First Baptist Carl, GA)
DESCRIPTION:First Baptist Carl extends an invitation to you to attend 
 our Annual Car and Truck show on Saturday  May 10th, 2014! The show l
 ocation is the Church,\n1588 Carl-Bethlehem Rd., Auburn GA  30011 fro
 m 11:00 to 4:00 with trophies awarded.  Registration is $15 per vehic
 le….come enjoy good company, good food and a good time.   There’
 s always room for one more !!!\n \nAll the money we collect goes to b
 enefit the Youth Group.  One of the things it provides it Youth to at
 tend camp who might not otherwise get to attend.\nCheck out our Facebo
 ok page at https://www.facebook.com/Nvasion.\nWe hope to see you there
 !!\n\nFor more information visit https://www.southeastwheelsevents.com
 /events/n-vasion-car-show-first-baptist-carl-ga
DTSTART;TZID=Pacific/Midway:20140510T110000
DTEND;TZID=Pacific/Midway:20140510T160000
CATEGORIES:fundraiser
LOCATION:First Baptist Church, Carl, Georgia
WEBSITE:http://www.firstbaptistcarl.org/
URL:http://www.firstbaptistcarl.org/
CONTACT:678-699-9455
ORGANIZER;CN="Charlotte Ewing":https://www.southeastwheelsevents.com/p
 rofile/CharlotteEwing
ATTACH;FMTTYPE="image/jpeg":
ATTENDEE;ROLE=REQ-PARTICIPANT;PARTSTAT=ACCEPTED;RSVP=TRUE;CN="Charlott
 e Ewing":https://www.southeastwheelsevents.com/profile/CharlotteEwing
END:VEVENT
END:VCALENDAR
