BEGIN:VCALENDAR
PRODID:NingEventWidget-v1
VERSION:2.0
METHOD:PUBLISH
BEGIN:VTIMEZONE
TZID:Pacific/Midway
X-LIC-LOCATION:Pacific/Midway
BEGIN:STANDARD
TZOFFSETFROM:-1100
TZOFFSETTO:-1100
TZNAME:SST
DTSTART:19700101T000000
END:STANDARD
END:VTIMEZONE
BEGIN:VEVENT
UID:5072275:Event:1173542
DTSTAMP:20260424T020231Z
SUMMARY:Napa Auto Parts Cruise-In
DESCRIPTION:Come Join us at Napa Auto Parts Cruise In. $10.00 Entry fe
 e. Best of Trophies, Top 15 Plaques. We will have Door Prizes, DJ, Mus
 ic, Food 50/50 and a lot of fun. The date was changed due to rain in t
 he forecast.\n\nFor more information visit https://www.southeastwheels
 events.com/events/napa-auto-parts-cruise-in-3
DTSTART;TZID=Pacific/Midway:20190714T130000
DTEND;TZID=Pacific/Midway:20190714T170000
CATEGORIES:cruise, in
LOCATION:Napa Auto Parts
WEBSITE:
URL:
CONTACT:Jimmy Hayes 678-847-1668
ORGANIZER;CN="Lisa Jenkins":https://www.southeastwheelsevents.com/prof
 ile/LisaJenkins
ATTACH;FMTTYPE="image/jpeg":
ATTENDEE;ROLE=REQ-PARTICIPANT;PARTSTAT=ACCEPTED;RSVP=TRUE;CN="Lisa Jen
 kins":https://www.southeastwheelsevents.com/profile/LisaJenkins
END:VEVENT
END:VCALENDAR
