BEGIN:VCALENDAR
PRODID:NingEventWidget-v1
VERSION:2.0
METHOD:PUBLISH
BEGIN:VTIMEZONE
TZID:Pacific/Midway
X-LIC-LOCATION:Pacific/Midway
BEGIN:STANDARD
TZOFFSETFROM:-1100
TZOFFSETTO:-1100
TZNAME:SST
DTSTART:19700101T000000
END:STANDARD
END:VTIMEZONE
BEGIN:VEVENT
UID:5072275:Event:1024691
DTSTAMP:20260419T231607Z
SUMMARY:Nashville Cars n' Coffee Meet
DESCRIPTION:Nashville Cars n' Coffee Meet will be held at Carmike Thou
 roughbred 20 Parking Lot, Franklin, TN. The Cars and Coffee meet in Fr
 anklin is a great way to start in the parking lot between McDonald's a
 nd the Movie theater. Coffee meet starts at 8.00am and ends at 11.00am
 .\n\nFor more information visit https://www.southeastwheelsevents.com/
 events/nashville-cars-n-coffee-meet
DTSTART;TZID=Pacific/Midway:20161210T180000
DTEND;TZID=Pacific/Midway:20161210T190000
CATEGORIES:cars, "clubs/shows/cruises"
LOCATION:Carmike Thouroughbred 20 Parking Lot
WEBSITE:https://www.facebook.com/carsandcoffeenashville/info/?tab=over
 view
URL:https://www.facebook.com/carsandcoffeenashville/info/?tab=overview
CONTACT:
ORGANIZER:Music City Mopar Club
ATTACH;FMTTYPE="image/jpeg":
ATTENDEE;ROLE=REQ-PARTICIPANT;PARTSTAT=ACCEPTED;RSVP=TRUE;CN="Chris go
 sney":https://www.southeastwheelsevents.com/profile/Chrisgosney
END:VEVENT
END:VCALENDAR
