BEGIN:VCALENDAR
PRODID:NingEventWidget-v1
VERSION:2.0
METHOD:PUBLISH
BEGIN:VTIMEZONE
TZID:Pacific/Midway
X-LIC-LOCATION:Pacific/Midway
BEGIN:STANDARD
TZOFFSETFROM:-1100
TZOFFSETTO:-1100
TZNAME:SST
DTSTART:19700101T000000
END:STANDARD
END:VTIMEZONE
BEGIN:VEVENT
UID:5072275:Event:670954
DTSTAMP:20260423T145416Z
SUMMARY:British Car Show -Nashville, TN
DESCRIPTION:Oct. 11, 2014, Nashville British Car Club's Show at Nashvi
 lle, Tennessee's acclaimed Centennial Park. Friday evening reception f
 or Saturday's show participants. Car show open to the public for viewi
 ng 100+ British cars on the lawn of Nashville's full-sized Greek Parth
 enon replica! Pre-register to save money, help establish car classes, 
 and to qualify for a unique door prize.  Get complete info at www.nas
 hvillebritishcarclub.org . If you have questions, contact Mike Long @ 
 615-790-2169 or email myriley4@bellsouth.net\n\nFor more information v
 isit https://www.southeastwheelsevents.com/events/nashville-tn-british
 -car-show
DTSTART;TZID=Pacific/Midway:20141011T100000
DTEND;TZID=Pacific/Midway:20141011T160000
CATEGORIES:british, car, show
LOCATION:Centennial Park
WEBSITE:http://www.nashville.gov/Parks-and-Recreation/Parks/Centennial
 -Park.aspx
URL:http://www.nashville.gov/Parks-and-Recreation/Parks/Centennial-Par
 k.aspx
CONTACT:Mike Long 615-790-2169, Chip 615-495-0103
ORGANIZER:Nashville British Car Club
ATTACH;FMTTYPE="image/jpeg":http://storage.ning.com/topology/rest/1.0/
 file/get/967640877?profile=original
ATTENDEE;ROLE=REQ-PARTICIPANT;PARTSTAT=ACCEPTED;RSVP=TRUE;CN="Mike Lon
 g":https://www.southeastwheelsevents.com/profile/MikeLong
END:VEVENT
END:VCALENDAR
