BEGIN:VCALENDAR
PRODID:NingEventWidget-v1
VERSION:2.0
METHOD:PUBLISH
BEGIN:VTIMEZONE
TZID:Pacific/Midway
X-LIC-LOCATION:Pacific/Midway
BEGIN:STANDARD
TZOFFSETFROM:-1100
TZOFFSETTO:-1100
TZNAME:SST
DTSTART:19700101T000000
END:STANDARD
END:VTIMEZONE
BEGIN:VEVENT
UID:5072275:Event:815453
DTSTAMP:20260423T134855Z
SUMMARY:Nationwide Show Car Pit Stop and Car Show, Winder, GA
DESCRIPTION:NASCAR Nationwide Series Show Car Pit Stop And Car Show w
 ill be hosted at the Home Depot in Winder, GA by the Ransom & Assoc. I
 ns. Agency\nThere is a $10.00 registration fee to enter your vehicle 
 payable at the Nationwide tent.  All proceeds will benefit the Barrow
  Ministry Village.\nAll Makes, Models, and Years are Welcome! \nPeo
 ples Choice Top 15, Best of Show (Sponsors Choice)! \n50/50 Drawing.
 \nDoor Prizes every half hour.\nNASCAR Driving Simulator.\nKids Bounce
  House\nand much more!\nPlease come help us support this much needed C
 harity organization in Barrow County!\n \n \n\nFor more information 
 visit https://www.southeastwheelsevents.com/events/nationwide-show-car
 -pit-sop-and-car-show-winder-ga
DTSTART;TZID=Pacific/Midway:20140906T100000
DTEND;TZID=Pacific/Midway:20140906T160000
CATEGORIES:fundraiser, charity, car, show
LOCATION:The Home Depot
WEBSITE:
URL:
CONTACT:404-693-6330
ORGANIZER;CN="N. Devin Ransom":https://www.southeastwheelsevents.com/p
 rofile/NDevinRansom
ATTACH;FMTTYPE="image/jpeg":http://storage.ning.com/topology/rest/1.0/
 file/get/967668792?profile=original
ATTENDEE;ROLE=REQ-PARTICIPANT;PARTSTAT=ACCEPTED;RSVP=TRUE;CN="N. Devin
  Ransom":https://www.southeastwheelsevents.com/profile/NDevinRansom
ATTENDEE;ROLE=REQ-PARTICIPANT;PARTSTAT=TENTATIVE;RSVP=TRUE;CN="James B
 erg, Sr.":https://www.southeastwheelsevents.com/profile/JamesBergSr
END:VEVENT
END:VCALENDAR
