BEGIN:VCALENDAR
PRODID:NingEventWidget-v1
VERSION:2.0
METHOD:PUBLISH
BEGIN:VTIMEZONE
TZID:Pacific/Midway
X-LIC-LOCATION:Pacific/Midway
BEGIN:STANDARD
TZOFFSETFROM:-1100
TZOFFSETTO:-1100
TZNAME:SST
DTSTART:19700101T000000
END:STANDARD
END:VTIMEZONE
BEGIN:VEVENT
UID:5072275:Event:734945
DTSTAMP:20260423T110043Z
SUMMARY:Nazarene Extravaganza Car Show, Hartsville, SC
DESCRIPTION:5th Annual Nazarene Car Show over 40 categories\nTrophies 
 for 1st, 2nd, and 3rd place in each category\nDash Plaque for first 10
 0 car, goodie bag and free lunch\n$25.00 entry fee\n\nFor more informa
 tion visit https://www.southeastwheelsevents.com/events/nazarene-extra
 vaganza-car-show-hartsville-sc
DTSTART;TZID=Pacific/Midway:20140531T090000
DTEND;TZID=Pacific/Midway:20140531T160000
CATEGORIES:car, show, and, fundraiser
LOCATION:First Church Of The Nazarene
WEBSITE:https://maps.google.com/maps?f=q&source=s_q&hl=en&geocode=&q=1
 909+West+Bobo+Newsom+Highway,+Hartsville,+SC&aq=0&oq=1909+west+bob&sll
 =33.624497,-80.926614&sspn=3.905662,7.822266&vpsrc=0&ie=UTF8&hq=&hnear
 =1909+W+Bobo+Newsom+Hwy,+Hartsville,+South+Carolina+29550&t=m&z=16
URL:https://maps.google.com/maps?f=q&source=s_q&hl=en&geocode=&q=1909+
 West+Bobo+Newsom+Highway,+Hartsville,+SC&aq=0&oq=1909+west+bob&sll=33.
 624497,-80.926614&sspn=3.905662,7.822266&vpsrc=0&ie=UTF8&hq=&hnear=190
 9+W+Bobo+Newsom+Hwy,+Hartsville,+South+Carolina+29550&t=m&z=16
CONTACT:843-307-1106
ORGANIZER;CN="John Bootsie Griggs":https://www.southeastwheelsevents.c
 om/profile/JohnBootsieGriggs
ATTACH;FMTTYPE="image/jpeg":http://storage.ning.com/topology/rest/1.0/
 file/get/967657384?profile=original
ATTENDEE;ROLE=REQ-PARTICIPANT;PARTSTAT=ACCEPTED;RSVP=TRUE;CN="John Boo
 tsie Griggs":https://www.southeastwheelsevents.com/profile/JohnBootsie
 Griggs
END:VEVENT
END:VCALENDAR
